BEGIN:VCALENDAR
VERSION:2.0
PRODID:-//hacksw/handcal//NONSGML v1.0//EN
BEGIN:VEVENT
UID:dba59cd24f2caa438a3dffb4e75f157b
DTSTAMP:20260425T235703Z

DTSTART:20190605T180000
DTEND:20190605T191500
SUMMARY:După / After @BABELfast
DESCRIPTION:„După” este o poveste despre dezvoltarea personalității unui bărbat pe nume Liu. El a fost marcat de încercarea tatălui său de a-și ucide familia, de aceea  este suprimat psihologic, fiind fascinat de păsări și trăind ca un om al păsărilor. Apoi, ca o întâmplare a sorții, o întâlnește pe Bean pe un pod și o salvează de la sinucidere. Liu și Bean sunt atrași unul de celălalt. Ei regăsesc bucuria de a trăi unul prin celălalt. Prin acest spectacol, trasmitem sensul existenței, acuzând lumea contemporană că  este dominată de material. \n\n„După” se bazează pe o poveste adevărată. Odată, am auzit la știri despre un tată fără inimă care și-a împins fiul în mare. Video-ul făcut de CCTV a fost pur și simplu șocant. Când am auzit, am vrut să salvez copilul prin ficțiune. Și prin această piesă, mi-am realizat acea dorință.\n\n  ‼ limită de vârstă: 15+ ‼\n\nPrețul unui bilet este de doar 1o lei!!!\n______________________________________________________\n\nPoți comanda bilete exclusiv de la Agenția de bilete a Teatrului Tony Bulandra:\n\n☎️ Telefonul agenției de bilete a teatrului: 0245.210.046;\n✆ WhatsApp: 0799.759.012;\n? E-mail: rezervari@tonybulandra.ro\n? Agenția de bilete a teatrului: Bulevardul Regele Carol I nr. 43\n\n? Program de lucru: L – D: 09.oo -19.oo

X-ALT-DESC;FMTTYPE=text/html:<!DOCTYPE HTML PUBLIC "-//W3C//DTD HTML 3.2//EN">\n<HTML>\n<HEAD>\n<META NAME="Generator" CONTENT="MS Exchange Server version 08.00.0681.000">\n<TITLE></TITLE>\n</HEAD>\n<BODY>\n<!-- Converted from text/rtf format -->\n\n„După” este o poveste despre dezvoltarea personalității unui bărbat pe nume Liu. El a fost marcat de încercarea tatălui său de a-și ucide familia, de aceea  este suprimat psihologic, fiind fascinat de păsări și trăind ca un om al păsărilor. Apoi, ca o întâmplare a sorții, o întâlnește pe Bean pe un pod și o salvează de la sinucidere. Liu și Bean sunt atrași unul de celălalt. Ei regăsesc bucuria de a trăi unul prin celălalt. Prin acest spectacol, trasmitem sensul existenței, acuzând lumea contemporană că  este dominată de material. <br /><br />„După” se bazează pe o poveste adevărată. Odată, am auzit la știri despre un tată fără inimă care și-a împins fiul în mare. Video-ul făcut de CCTV a fost pur și simplu șocant. Când am auzit, am vrut să salvez copilul prin ficțiune. Și prin această piesă, mi-am realizat acea dorință.<br /><br />  ‼ limită de vârstă: 15+ ‼<br /><br />Prețul unui bilet este de doar 1o lei!!!<br />______________________________________________________<br /><br />Poți comanda bilete exclusiv de la Agenția de bilete a Teatrului Tony Bulandra:<br /><br />☎️ Telefonul agenției de bilete a teatrului: 0245.210.046;<br />✆ WhatsApp: 0799.759.012;<br />? E-mail: rezervari@tonybulandra.ro<br />? Agenția de bilete a teatrului: Bulevardul Regele Carol I nr. 43<br /><br />? Program de lucru: L – D: 09.oo -19.oo\n\n</BODY>\n</HTML>

LOCATION:Bulevardul Regele Carol I nr. 43, Târgoviște, România
END:VEVENT

END:VCALENDAR
