BEGIN:VCALENDAR
VERSION:2.0
PRODID:-//hacksw/handcal//NONSGML v1.0//EN
BEGIN:VEVENT
UID:a756d84d0d1aedcefd73373d8dfb7a92
DTSTAMP:20260426T011725Z

DTSTART:20190606T180000
DTEND:20190606T193000
SUMMARY:Alba by Théâtre du Mouvement @BABELfast
DESCRIPTION:Cu ocazia aniversării a 40 de ani, Théâtre du Mouvement a lansat adaptarea piesei lui Federico Garcia Lorca, „Casa Bernardei Alba”. Șocul a fost puternic, deoarece audiența Festivalului Mimos din Périgueux a descoperit, în seara de deschidere, că nimeni altul decât Yves Marc personifica figura emblematică a mamei: o femeie dezagreabilă care își obligă fiicele să jelească moartea tatălui lor. Ele se roagă și împletesc fără răgaz.\n\nSora cea mică, care visează să se căsătorească cu frumosul Pepe, se răzvrătește împotriva autorității materne și obiceiurilor rigide ale Spaniei Catolice. Trupul ei exultă, sufletul îi este euforic și dornic de libertate. Realizat într-o scenografie impresionantă cu negrul dominant, forța poetică a gesturilor și imaginilor aduce jocul de constrângeri și frustrări în lumină deplină. Puțin câte puțin, un afișaj de jaluzele și voaluri expune vina, gelozia, dorințele nerecunoscute. O creație intensă, exactă, senzuală.

X-ALT-DESC;FMTTYPE=text/html:<!DOCTYPE HTML PUBLIC "-//W3C//DTD HTML 3.2//EN">\n<HTML>\n<HEAD>\n<META NAME="Generator" CONTENT="MS Exchange Server version 08.00.0681.000">\n<TITLE></TITLE>\n</HEAD>\n<BODY>\n<!-- Converted from text/rtf format -->\n\nCu ocazia aniversării a 40 de ani, Théâtre du Mouvement a lansat adaptarea piesei lui Federico Garcia Lorca, „Casa Bernardei Alba”. Șocul a fost puternic, deoarece audiența Festivalului Mimos din Périgueux a descoperit, în seara de deschidere, că nimeni altul decât Yves Marc personifica figura emblematică a mamei: o femeie dezagreabilă care își obligă fiicele să jelească moartea tatălui lor. Ele se roagă și împletesc fără răgaz.<br /><br />Sora cea mică, care visează să se căsătorească cu frumosul Pepe, se răzvrătește împotriva autorității materne și obiceiurilor rigide ale Spaniei Catolice. Trupul ei exultă, sufletul îi este euforic și dornic de libertate. Realizat într-o scenografie impresionantă cu negrul dominant, forța poetică a gesturilor și imaginilor aduce jocul de constrângeri și frustrări în lumină deplină. Puțin câte puțin, un afișaj de jaluzele și voaluri expune vina, gelozia, dorințele nerecunoscute. O creație intensă, exactă, senzuală.\n\n</BODY>\n</HTML>

LOCATION:Bulevardul Regele Carol I nr. 43, Târgoviște, România
END:VEVENT

END:VCALENDAR
