BEGIN:VCALENDAR
VERSION:2.0
PRODID:-//hacksw/handcal//NONSGML v1.0//EN
BEGIN:VEVENT
UID:91d64ed93d2998eda5c37bcd1cb01e3d
DTSTAMP:20260426T011306Z

DTSTART:20191001T190000
DTEND:20191001T210000
SUMMARY:Premiera - Argonautas, un spectacol de: Mc Ranin
DESCRIPTION:Vă așteptăm, luni 30 septembrie, de la orele 19:oo în Sala Mare a Teatrului Tony Bulandra, la avanpremiera – ARGONAUTAS -  o epopee modernă, a omului contemporan în căutarea prosperității! un spectacol de: Mc Ranin\n\ncoregrafia: Hugo Wolff\n\nîn distribuție: Hugo Franco | Andreea Tănase | Diana Costa e Silva | Miguel Sermão | Carlos Paulo | Radu Campean | Mircea Silaghi | Rogério Vale | Maria Ana Filipe | Liviu Cheloiu  | Sf Ilie Ghergu\n\n  „ARGONAUTAS” este o revalorizare a expediției argonauților, cei 50 de eroi care l-au însoțit pe Iason și care, cu 50 de ani înainte de războiul Troiei, au plecat în căutarea Lânii de Aur. \n\n  Este o metaforă pentru odiseea omului modern care pleacă în căutarea unui loc pe care să-l poate numi acasă și unde să se poată exprima liber, fără constrângeri sociale sau culturale. \n\n  Lâna de Aur reprezintă tocmai aflarea acestui loc de bogăție și prosperitate, unde ajungi purtat fiind de valurile vieții și însoțit de diferiți oameni care îți sunt mentori, prieteni sau contraexemple. Lunga expediție simbolizează drumul inițiatic. De aici, s-a născut dorința și oportunitatea unei coproducții cu Teatro da Comuna din Lisabona.\n

X-ALT-DESC;FMTTYPE=text/html:<!DOCTYPE HTML PUBLIC "-//W3C//DTD HTML 3.2//EN">\n<HTML>\n<HEAD>\n<META NAME="Generator" CONTENT="MS Exchange Server version 08.00.0681.000">\n<TITLE></TITLE>\n</HEAD>\n<BODY>\n<!-- Converted from text/rtf format -->\n\nVă așteptăm, luni 30 septembrie, de la orele 19:oo în Sala Mare a Teatrului Tony Bulandra, la avanpremiera – ARGONAUTAS -  o epopee modernă, a omului contemporan în căutarea prosperității! un spectacol de: Mc Ranin<br /><br />coregrafia: Hugo Wolff<br /><br />în distribuție: Hugo Franco | Andreea Tănase | Diana Costa e Silva | Miguel Sermão | Carlos Paulo | Radu Campean | Mircea Silaghi | Rogério Vale | Maria Ana Filipe | Liviu Cheloiu  | Sf Ilie Ghergu<br /><br />  „ARGONAUTAS” este o revalorizare a expediției argonauților, cei 50 de eroi care l-au însoțit pe Iason și care, cu 50 de ani înainte de războiul Troiei, au plecat în căutarea Lânii de Aur. <br /><br />  Este o metaforă pentru odiseea omului modern care pleacă în căutarea unui loc pe care să-l poate numi acasă și unde să se poată exprima liber, fără constrângeri sociale sau culturale. <br /><br />  Lâna de Aur reprezintă tocmai aflarea acestui loc de bogăție și prosperitate, unde ajungi purtat fiind de valurile vieții și însoțit de diferiți oameni care îți sunt mentori, prieteni sau contraexemple. Lunga expediție simbolizează drumul inițiatic. De aici, s-a născut dorința și oportunitatea unei coproducții cu Teatro da Comuna din Lisabona.<br />\n\n</BODY>\n</HTML>

LOCATION:Bulevardul Regele Carol I nr. 43, Târgoviște, România
END:VEVENT

END:VCALENDAR
