BEGIN:VCALENDAR
VERSION:2.0
PRODID:-//hacksw/handcal//NONSGML v1.0//EN
BEGIN:VEVENT
UID:b431b7b7da57fb471e8a6caf647b700b
DTSTAMP:20260426T011750Z

DTSTART:20181017T120000
DTEND:20181020T220000
SUMMARY:ASTRO-FEST 2018
DESCRIPTION:Societatea Astronomică Română de Meteori organizează festivalul internațional de astronomie ASTRO-FEST 2018 Târgoviște.\n\nEveniment dedicat Centenarului Marii Uniri și rolului pe care l-a avut astronomia în realizarea Unirii, precum și împlinirii a 25 de ani de la fondarea Societății Astronomice Române de Meteori - SARM.\n\nParticipă entități fizice și juridice din toate provinciile românești, Rep. Moldova, diaspora și străinătate: observatoare astronomice și planetarii, instituții astronomice, instituții de cercetare, asociații și cluburi de astronomie, organizații care promovează educația și știința, astronomi amatori, tineri pasionați de astronomie, edituri, firme de telescoape și produse cu caracter educativ, invitați din diaspora și din străinătate.\n\nInvitați din afara țării care au confirmat participarea:\nMike Simmons, Los Angeles, SUA - președinte organizația mondială Astronomers Without Borders AWB (Astronomi Fără Frontiere)\nAudrey Fischer, Chicago - președinte Societatea Astronomică din Chicago, director program internațional One Star At A Time\nJessica Santascoy, New York - membru Staff AWB\nRoger Hambleton, Dubai - Coordonator National AWB în Emiratele Arabe Unite\n\nMirel Birlan, Observatorul Astronomic din Paris - Președinte Comitetul Național Român de Astronomie\n\nVitalie Chistol, Observator Astronomic/Planetariu, UniversitateaTehnică a Moldovei, Chișinău\nȘtefan Tiron, Academia de Științe Chișinău, Rep. Moldova\nIon Nacu, L. R. Mihai Marinciuc Chișinău, Rep. Moldova\n\nOaspeți:\nCosmonaut Dumitru Prunariu\nProf. Alexandru Mironov\n\nToți cei care doresc să participe cu contribuții la eveniment sunt rugați să contacteze organizatorii la\nE-mail: sarm.ro@gmail.com\nTelefon: 0722 829 034\nSe asigură toate cheltuielile de participare.\nNu există taxă de participare.\n\nUnitățile de învățământ sunt rugate să contacteze organizatorii pentru a asigura participarea/vizita grupurilor de elevi la eveniment și programarea acestora la activitățile cuprinse în programul festivalului.\n\nEvenimentul este finanțat de Ministerul Tineretului și Sportului, Primăria Municipiului Târgoviște și Consiliul Județean Dâmbovița.\nParteneri sunt Complexul Național Muzeal „Curtea Domnească”, Biblioteca Județeană „I. H. Rădulescu” Dâmbovița, Fundația Județeană pentru Tineret Dâmbovița și Columna TV.\n\nProgram preliminar\n\nVineri 12 octombrie – Duminică 14 octombrie\nWorkshop: Perspective de dezvoltare a astronomiei, educației prin astronomie și astronomiei culturale în Târgoviște și județul Dâmbovița. Programe și proiecte. Colaborare internațională. Pensiunea Runcu Stone.\n\nLuni, 15 octombrie și marți, 16 octombrie\nProgram invitați străini, întâlnire de lucru membri și staff Astronomi Fără Frontiere. Vizite, întâlnire cu autorități.\n\nMiercuri, 17 octombrie\n12.00 – Sosirea participanților, cazarea\n14.00 – Masa\n15.00 – Instalare expoziții, standuri de carte astronomică, expoziții de desene cosmice etc. Muzeul de Istorie. Biblioteca Județeană.\n20.00 – Masa\n\nJoi, 18 octombrie\n10.00 – Sesiune de comunicări. Muzeul de Istorie\n12.00 – Case vechi din Târgoviște și povestea lor – tur al Centrului Vechi din Târgoviște\n13.00 – Masa\n15.00 – Instalare standuri Piața Tricolorului\n16.00 – Sesiune de comunicări. Muzeul de Istorie\n20.00 – Masa\n\nVineri, 19 octombrie\n09.00 – Sesiune de comunicări. Muzeul de Istorie\n12.30 – Masa\n14.30 – Sesiune de gală: autorități, invitați, participanți. Muzeul de Istorie\n15.30 – Deschidere festival în aer liber. Piața Tricolorului.\nDialog pe scena festivalului: cosmonaut Dumitru Prunariu, prof. Al. Mironov, preș. Mike Simmons\n16.00-22.00 – Festival în aer liber, Piața Tricolorului: observații astronomice, standuri entități participante, experimente, demonstrații, expoziții, standuri de carte, standuri firme telescoape, rachetomodele, proiecții de imagini, dialog pe scenă etc.\nVizite expoziții Muzeul de Istorie\n19.00 – Masa\n\nSâmbătă, 20 octombrie\nMuzeul de Istorie\n10.00 – Sesiune de comunicări\n11.30 – Gală Festival de cosmopoezie\n12.15 – Recital muzică astrofolk\n13.00 – Masa\n14.00 – Prezentare expoziție de desene și picturi cosmice. Biblioteca Județeană.\n14:00-22.00 – Festival în aer liber. Standuri, observații. Piața Tricolorului.\nVizite expoziții Muzeul de Istorie.\n\nDuminică, 21 octombrie\n12.00 – Plecarea participanților\n13.00 – Excursie pentru invitați\n\nLuni, 22 octombrie\n12.00 – Plecare invitați străini\n\nExpoziții:\nMuzeul de Istorie:\n- Expoziție de fotografie astronomică de peisaj nocturn\n- Expoziție de fotografie solară și lunară de înaltă rezoluție\n- Expoziție SARM 25 de ani\n- Expoziția „Cerul în mâinile tale” – constelații românești tradiționale – pentru nevăzători\n- Colecție de calendare și anuare astronomice\n- Carte de astronomie\n\nBiblioteca județeană:\n- Expoziție de astrofotografie pe pânză\n- Expoziție de desene și picturi cosmice\n- Expoziție fond bibliotecă de carte de astronomie\n\nNotă: Sesiunile de comunicări includ:\n- Seminarul Românii, Astronomia și Unirea. Prezentări și comunicări dedicate Centenarului Marii Uniri. Rolul și contribuția astronomiei la Marea Unire. Personalități astronomice. Fapte istorice.\n- 25 de ani de performanță în promovarea astronomiei și a educației prin astronomie; sesiune dedicată împlinirii a 25 de ani de la înființarea Societății Astronomice Române de Meteori – SARM\n- Prezentări cu caracter cultural și artistic, educațional, științific (proiecte românești sau cu contribuție românească)\n- Lansări/prezentări de carte și publicații astronomice\n- Prezentări expoziții tematice: colecție de calendare astronomice, astronomie pentru nevăzători, expoziții de astrofotografie, expoziții de desene și picturi cosmice

X-ALT-DESC;FMTTYPE=text/html:<!DOCTYPE HTML PUBLIC "-//W3C//DTD HTML 3.2//EN">\n<HTML>\n<HEAD>\n<META NAME="Generator" CONTENT="MS Exchange Server version 08.00.0681.000">\n<TITLE></TITLE>\n</HEAD>\n<BODY>\n<!-- Converted from text/rtf format -->\n\nSocietatea Astronomică Română de Meteori organizează festivalul internațional de astronomie ASTRO-FEST 2018 Târgoviște.<br /><br />Eveniment dedicat Centenarului Marii Uniri și rolului pe care l-a avut astronomia în realizarea Unirii, precum și împlinirii a 25 de ani de la fondarea Societății Astronomice Române de Meteori - SARM.<br /><br />Participă entități fizice și juridice din toate provinciile românești, Rep. Moldova, diaspora și străinătate: observatoare astronomice și planetarii, instituții astronomice, instituții de cercetare, asociații și cluburi de astronomie, organizații care promovează educația și știința, astronomi amatori, tineri pasionați de astronomie, edituri, firme de telescoape și produse cu caracter educativ, invitați din diaspora și din străinătate.<br /><br />Invitați din afara țării care au confirmat participarea:<br />Mike Simmons, Los Angeles, SUA - președinte organizația mondială Astronomers Without Borders AWB (Astronomi Fără Frontiere)<br />Audrey Fischer, Chicago - președinte Societatea Astronomică din Chicago, director program internațional One Star At A Time<br />Jessica Santascoy, New York - membru Staff AWB<br />Roger Hambleton, Dubai - Coordonator National AWB în Emiratele Arabe Unite<br /><br />Mirel Birlan, Observatorul Astronomic din Paris - Președinte Comitetul Național Român de Astronomie<br /><br />Vitalie Chistol, Observator Astronomic/Planetariu, UniversitateaTehnică a Moldovei, Chișinău<br />Ștefan Tiron, Academia de Științe Chișinău, Rep. Moldova<br />Ion Nacu, L. R. Mihai Marinciuc Chișinău, Rep. Moldova<br /><br />Oaspeți:<br />Cosmonaut Dumitru Prunariu<br />Prof. Alexandru Mironov<br /><br />Toți cei care doresc să participe cu contribuții la eveniment sunt rugați să contacteze organizatorii la<br />E-mail: sarm.ro@gmail.com<br />Telefon: 0722 829 034<br />Se asigură toate cheltuielile de participare.<br />Nu există taxă de participare.<br /><br />Unitățile de învățământ sunt rugate să contacteze organizatorii pentru a asigura participarea/vizita grupurilor de elevi la eveniment și programarea acestora la activitățile cuprinse în programul festivalului.<br /><br />Evenimentul este finanțat de Ministerul Tineretului și Sportului, Primăria Municipiului Târgoviște și Consiliul Județean Dâmbovița.<br />Parteneri sunt Complexul Național Muzeal „Curtea Domnească”, Biblioteca Județeană „I. H. Rădulescu” Dâmbovița, Fundația Județeană pentru Tineret Dâmbovița și Columna TV.<br /><br />Program preliminar<br /><br />Vineri 12 octombrie – Duminică 14 octombrie<br />Workshop: Perspective de dezvoltare a astronomiei, educației prin astronomie și astronomiei culturale în Târgoviște și județul Dâmbovița. Programe și proiecte. Colaborare internațională. Pensiunea Runcu Stone.<br /><br />Luni, 15 octombrie și marți, 16 octombrie<br />Program invitați străini, întâlnire de lucru membri și staff Astronomi Fără Frontiere. Vizite, întâlnire cu autorități.<br /><br />Miercuri, 17 octombrie<br />12.00 – Sosirea participanților, cazarea<br />14.00 – Masa<br />15.00 – Instalare expoziții, standuri de carte astronomică, expoziții de desene cosmice etc. Muzeul de Istorie. Biblioteca Județeană.<br />20.00 – Masa<br /><br />Joi, 18 octombrie<br />10.00 – Sesiune de comunicări. Muzeul de Istorie<br />12.00 – Case vechi din Târgoviște și povestea lor – tur al Centrului Vechi din Târgoviște<br />13.00 – Masa<br />15.00 – Instalare standuri Piața Tricolorului<br />16.00 – Sesiune de comunicări. Muzeul de Istorie<br />20.00 – Masa<br /><br />Vineri, 19 octombrie<br />09.00 – Sesiune de comunicări. Muzeul de Istorie<br />12.30 – Masa<br />14.30 – Sesiune de gală: autorități, invitați, participanți. Muzeul de Istorie<br />15.30 – Deschidere festival în aer liber. Piața Tricolorului.<br />Dialog pe scena festivalului: cosmonaut Dumitru Prunariu, prof. Al. Mironov, preș. Mike Simmons<br />16.00-22.00 – Festival în aer liber, Piața Tricolorului: observații astronomice, standuri entități participante, experimente, demonstrații, expoziții, standuri de carte, standuri firme telescoape, rachetomodele, proiecții de imagini, dialog pe scenă etc.<br />Vizite expoziții Muzeul de Istorie<br />19.00 – Masa<br /><br />Sâmbătă, 20 octombrie<br />Muzeul de Istorie<br />10.00 – Sesiune de comunicări<br />11.30 – Gală Festival de cosmopoezie<br />12.15 – Recital muzică astrofolk<br />13.00 – Masa<br />14.00 – Prezentare expoziție de desene și picturi cosmice. Biblioteca Județeană.<br />14:00-22.00 – Festival în aer liber. Standuri, observații. Piața Tricolorului.<br />Vizite expoziții Muzeul de Istorie.<br /><br />Duminică, 21 octombrie<br />12.00 – Plecarea participanților<br />13.00 – Excursie pentru invitați<br /><br />Luni, 22 octombrie<br />12.00 – Plecare invitați străini<br /><br />Expoziții:<br />Muzeul de Istorie:<br />- Expoziție de fotografie astronomică de peisaj nocturn<br />- Expoziție de fotografie solară și lunară de înaltă rezoluție<br />- Expoziție SARM 25 de ani<br />- Expoziția „Cerul în mâinile tale” – constelații românești tradiționale – pentru nevăzători<br />- Colecție de calendare și anuare astronomice<br />- Carte de astronomie<br /><br />Biblioteca județeană:<br />- Expoziție de astrofotografie pe pânză<br />- Expoziție de desene și picturi cosmice<br />- Expoziție fond bibliotecă de carte de astronomie<br /><br />Notă: Sesiunile de comunicări includ:<br />- Seminarul Românii, Astronomia și Unirea. Prezentări și comunicări dedicate Centenarului Marii Uniri. Rolul și contribuția astronomiei la Marea Unire. Personalități astronomice. Fapte istorice.<br />- 25 de ani de performanță în promovarea astronomiei și a educației prin astronomie; sesiune dedicată împlinirii a 25 de ani de la înființarea Societății Astronomice Române de Meteori – SARM<br />- Prezentări cu caracter cultural și artistic, educațional, științific (proiecte românești sau cu contribuție românească)<br />- Lansări/prezentări de carte și publicații astronomice<br />- Prezentări expoziții tematice: colecție de calendare astronomice, astronomie pentru nevăzători, expoziții de astrofotografie, expoziții de desene și picturi cosmice\n\n</BODY>\n</HTML>

LOCATION:Târgoviște, România
END:VEVENT

END:VCALENDAR
