BEGIN:VCALENDAR
VERSION:2.0
PRODID:-//hacksw/handcal//NONSGML v1.0//EN
BEGIN:VEVENT
UID:a0ed563c54342de3d4c4ae28162651fd
DTSTAMP:20260425T235947Z

DTSTART:20180716T160000
DTEND:20180722T110000
SUMMARY:ASTRO & FOTO 2018 - Școala de vară
DESCRIPTION:Societatea Astronomică Română de Meteori vă invită să descoperiți misterele cerului nopții și farmecul astrofotografiei la Școala de vară pentru copii și tineret de inițiere în astronomie și fotografie ASTRO & FOTO 2018, ediția a 5-a.\n\nInformații despre organizarea taberei:\nPrețul de participare: 850 lei (avans 200 lei la înscriere)\nPerioada de desfășurare: 16-22 iulie 2018\nLocul de desfășurare: pensiunea Runcu Stone, localitatea Runcu, județul Dâmbovița\nLocuri disponibile: 25\n\nSe asigură:\n• Cazare în camere duble sau triple, cu baie în cameră\n• Trei mese pe zi (se intră cu cina pe 16 iulie)\n• Transportul de la Târgoviște la Runcu Stone și retur\n• Programul taberei, sesiuni teoretice și practice de astronomie și fotografie\n• Materiale și accesorii pentru derularea programului: telescoape, aparate foto, videoproiecție, expoziție fotografică, reviste, atlase, albume, cărți, harta cerului, planisfera, materiale didactice\n• Diplomă de absolvire la finalul taberei\n• Spații pentru jocuri: tenis, ping-pong, biliard etc.\n• Foc de tabără\n\nGrupe de vârstă:\nCopii: 8-13 ani\nTineret: 14-35 ani\nSeniori/însoțitori: peste 35 de ani\n\nTermen limită de înscriere: 10 iunie (în limita locurilor disponibile, în ordinea înscrierii).\n\nProgramul școlii de vară include:\n• Sesiuni teoretice de inițiere în observarea cerului pe timp de ziuă și pe timp de noapte: mișcarea bolții cerești; stele și constelații, repere pentru orientarea pe boltă și aflarea punctelor cardinale; planete, meteori, comete, galaxii, roiuri de stele, nebuloase, aurore boreale; fenomene optice atmosferice; echinocțiu și solstițiu, durata zilei și a nopții, anotimpurile; legende ale cerului.\n• Folosirea hărții cerului și a planisferei: descriere, aflarea coordonatelor unui obiect de pe hartă, aflarea poziției unui obiect pe hartă cunoscând coordonatele ecuatoriale, orientarea pe cer cu ajutorul hărții cerești și a planisferei.\n• Instrumente astronomice: luneta, telescopul, binoclul; descriere, utilizare.\n• Sesiuni practice, observarea cerului de noapte: identificarea și învățarea constelațiilor și a stelelor importante, aflarea punctelor cardinale, identificarea planetelor vizibile pe cer. Calea Lactee. Observarea meteorilor. Observarea Stației Spațiale Internaționale și a sateliților Iridium.\n• Observații prin telescop: petele de pe Soare, relieful Lunii (craterele, văi, munții), planete, roiuri de stele, galaxii.\n• Iluminatul nocturn eficient, combaterea poluării luminoase.\n• Expoziție de astrofotografie și bibliotecă de carte astronomică.\n• Astronomie culturală, cosmopoezie și muzică astrofolk\n• Noțiuni introductive de fotografie: descrierea principiului fotografiei și a tehnicilor de fotografiere, încadrarea corectă, timpul de expunere, diafragma și sensibilitatea, focalizarea; aparate foto și accesorii.\n• Fotografia de peisaj și macrofotografia.\n• Inițiere în astrofotografie: fotografierea cerului și a peisajului nocturn.\n• Fotografia și astrofotografia cu telefonul mobil.\n• Explorarea peisajului natural din împrejurimi, pajiști și păduri seculare: identificarea speciilor de arbori, identificarea plantelor medicinale și a insectelor, orientarea în teren.\n\nCursurile și atelierele de lucru vor fi susținute de lector Valentin Grigore, expert de nivel internațional, formator și lucrător de tineret, astronom amator și astrofotograf, președinte al Societății Astronomice Române de Meteori, Coordonator Național pentru România al organizației internaționale Astronomi Fără Frontiere, reprezentantul României în Rețeaua Europeană de Promovare a Educației și Științei către Public.\n\nLocalizare\nPensiunea este situată într-o zonă deosebit de pitorească, la poalele Munților Leaota, pe vârful Giurcu, la altitudinea de 840 m, pe o pajiște de peste 10 ha, cu o varietate rar întâlnită de plante și flori, împrejmuită de codrii seculari de fagi, mesteceni și stejari, într-un loc ce domină întreg platoul subcarpatic dâmbovițean. Se află la 38 km de orașul Târgoviște și la 50 km de orașul Sinaia, la graniţa dintre comunele Runcu şi Râu Alb, județul Dâmbovița.

X-ALT-DESC;FMTTYPE=text/html:<!DOCTYPE HTML PUBLIC "-//W3C//DTD HTML 3.2//EN">\n<HTML>\n<HEAD>\n<META NAME="Generator" CONTENT="MS Exchange Server version 08.00.0681.000">\n<TITLE></TITLE>\n</HEAD>\n<BODY>\n<!-- Converted from text/rtf format -->\n\nSocietatea Astronomică Română de Meteori vă invită să descoperiți misterele cerului nopții și farmecul astrofotografiei la Școala de vară pentru copii și tineret de inițiere în astronomie și fotografie ASTRO & FOTO 2018, ediția a 5-a.<br /><br />Informații despre organizarea taberei:<br />Prețul de participare: 850 lei (avans 200 lei la înscriere)<br />Perioada de desfășurare: 16-22 iulie 2018<br />Locul de desfășurare: pensiunea Runcu Stone, localitatea Runcu, județul Dâmbovița<br />Locuri disponibile: 25<br /><br />Se asigură:<br />• Cazare în camere duble sau triple, cu baie în cameră<br />• Trei mese pe zi (se intră cu cina pe 16 iulie)<br />• Transportul de la Târgoviște la Runcu Stone și retur<br />• Programul taberei, sesiuni teoretice și practice de astronomie și fotografie<br />• Materiale și accesorii pentru derularea programului: telescoape, aparate foto, videoproiecție, expoziție fotografică, reviste, atlase, albume, cărți, harta cerului, planisfera, materiale didactice<br />• Diplomă de absolvire la finalul taberei<br />• Spații pentru jocuri: tenis, ping-pong, biliard etc.<br />• Foc de tabără<br /><br />Grupe de vârstă:<br />Copii: 8-13 ani<br />Tineret: 14-35 ani<br />Seniori/însoțitori: peste 35 de ani<br /><br />Termen limită de înscriere: 10 iunie (în limita locurilor disponibile, în ordinea înscrierii).<br /><br />Programul școlii de vară include:<br />• Sesiuni teoretice de inițiere în observarea cerului pe timp de ziuă și pe timp de noapte: mișcarea bolții cerești; stele și constelații, repere pentru orientarea pe boltă și aflarea punctelor cardinale; planete, meteori, comete, galaxii, roiuri de stele, nebuloase, aurore boreale; fenomene optice atmosferice; echinocțiu și solstițiu, durata zilei și a nopții, anotimpurile; legende ale cerului.<br />• Folosirea hărții cerului și a planisferei: descriere, aflarea coordonatelor unui obiect de pe hartă, aflarea poziției unui obiect pe hartă cunoscând coordonatele ecuatoriale, orientarea pe cer cu ajutorul hărții cerești și a planisferei.<br />• Instrumente astronomice: luneta, telescopul, binoclul; descriere, utilizare.<br />• Sesiuni practice, observarea cerului de noapte: identificarea și învățarea constelațiilor și a stelelor importante, aflarea punctelor cardinale, identificarea planetelor vizibile pe cer. Calea Lactee. Observarea meteorilor. Observarea Stației Spațiale Internaționale și a sateliților Iridium.<br />• Observații prin telescop: petele de pe Soare, relieful Lunii (craterele, văi, munții), planete, roiuri de stele, galaxii.<br />• Iluminatul nocturn eficient, combaterea poluării luminoase.<br />• Expoziție de astrofotografie și bibliotecă de carte astronomică.<br />• Astronomie culturală, cosmopoezie și muzică astrofolk<br />• Noțiuni introductive de fotografie: descrierea principiului fotografiei și a tehnicilor de fotografiere, încadrarea corectă, timpul de expunere, diafragma și sensibilitatea, focalizarea; aparate foto și accesorii.<br />• Fotografia de peisaj și macrofotografia.<br />• Inițiere în astrofotografie: fotografierea cerului și a peisajului nocturn.<br />• Fotografia și astrofotografia cu telefonul mobil.<br />• Explorarea peisajului natural din împrejurimi, pajiști și păduri seculare: identificarea speciilor de arbori, identificarea plantelor medicinale și a insectelor, orientarea în teren.<br /><br />Cursurile și atelierele de lucru vor fi susținute de lector Valentin Grigore, expert de nivel internațional, formator și lucrător de tineret, astronom amator și astrofotograf, președinte al Societății Astronomice Române de Meteori, Coordonator Național pentru România al organizației internaționale Astronomi Fără Frontiere, reprezentantul României în Rețeaua Europeană de Promovare a Educației și Științei către Public.<br /><br />Localizare<br />Pensiunea este situată într-o zonă deosebit de pitorească, la poalele Munților Leaota, pe vârful Giurcu, la altitudinea de 840 m, pe o pajiște de peste 10 ha, cu o varietate rar întâlnită de plante și flori, împrejmuită de codrii seculari de fagi, mesteceni și stejari, într-un loc ce domină întreg platoul subcarpatic dâmbovițean. Se află la 38 km de orașul Târgoviște și la 50 km de orașul Sinaia, la graniţa dintre comunele Runcu şi Râu Alb, județul Dâmbovița.\n\n</BODY>\n</HTML>

LOCATION:Comuna Runcu, România
END:VEVENT

END:VCALENDAR
