BEGIN:VCALENDAR
VERSION:2.0
PRODID:-//hacksw/handcal//NONSGML v1.0//EN
BEGIN:VEVENT
UID:aa55a16ec86d2d0520703550b83efa0a
DTSTAMP:20260426T000147Z

DTSTART:20171110T183000
DTEND:20171110T210000
SUMMARY:Atelier de familie- Dulapul Papusii
DESCRIPTION:Dulapul papusii tale este gol? Hai la atelier sa ii facem garderoba noua.
Adina Comanescu ti-a pregatit un atelier de familie, pentru fetite si mamici, sau de ce nu, si tatici, in care te va invata cum sa ii innoiesti, de fiecare data, tinutele papusii tale preferate, prin cativa pasi simpli si creativi.
Nu ai nevoie de o papusa noua,atunci cand te plictisesti de ea, de acum, ii poti schimba garderoba cu haine unicate de petrecere, bal sau plimbare,
Un atelier în care rabdarea, atentia si imaginatia vor crea rochita perfecta pentru companionul tau de joaca.

Ce trebuie sa aduci?
Evident, papusa ta preferata, de restul ne ocupam noi.

Vino alaturi de mami, tati sau bunica, sa petreci timp in familie, intr-un mod inedit si distractiv.

Pret atelier- parinte+copil-40ron

X-ALT-DESC;FMTTYPE=text/html:<!DOCTYPE HTML PUBLIC "-//W3C//DTD HTML 3.2//EN">\n<HTML>\n<HEAD>\n<META NAME="Generator" CONTENT="MS Exchange Server version 08.00.0681.000">\n<TITLE></TITLE>\n</HEAD>\n<BODY>\n<!-- Converted from text/rtf format -->\n\nDulapul papusii tale este gol? Hai la atelier sa ii facem garderoba noua.
Adina Comanescu ti-a pregatit un atelier de familie, pentru fetite si mamici, sau de ce nu, si tatici, in care te va invata cum sa ii innoiesti, de fiecare data, tinutele papusii tale preferate, prin cativa pasi simpli si creativi.
Nu ai nevoie de o papusa noua,atunci cand te plictisesti de ea, de acum, ii poti schimba garderoba cu haine unicate de petrecere, bal sau plimbare,
Un atelier în care rabdarea, atentia si imaginatia vor crea rochita perfecta pentru companionul tau de joaca.

Ce trebuie sa aduci?
Evident, papusa ta preferata, de restul ne ocupam noi.

Vino alaturi de mami, tati sau bunica, sa petreci timp in familie, intr-un mod inedit si distractiv.

Pret atelier- parinte+copil-40ron\n\n</BODY>\n</HTML>

LOCATION:
END:VEVENT

END:VCALENDAR
