BEGIN:VCALENDAR
VERSION:2.0
PRODID:-//hacksw/handcal//NONSGML v1.0//EN
BEGIN:VEVENT
UID:9c02b0a52fac02129c25194044e94194
DTSTAMP:20260426T000124Z

DTSTART:20171101T100000
DTEND:20171101T204500
SUMMARY:Aurul și Argintul Antic al României la Targoviste
DESCRIPTION:Expozitie maraton in muzeele din tara cu exponate dacice din aur. la Targoviste va asteptam in Muzeul de Istorie Dâmbovița pe Calea Domnească, 189.

X-ALT-DESC;FMTTYPE=text/html:<!DOCTYPE HTML PUBLIC "-//W3C//DTD HTML 3.2//EN">\n<HTML>\n<HEAD>\n<META NAME="Generator" CONTENT="MS Exchange Server version 08.00.0681.000">\n<TITLE></TITLE>\n</HEAD>\n<BODY>\n<!-- Converted from text/rtf format -->\n\nExpozitie maraton in muzeele din tara cu exponate dacice din aur. la Targoviste va asteptam in Muzeul de Istorie Dâmbovița pe Calea Domnească, 189.\n\n</BODY>\n</HTML>

LOCATION:
END:VEVENT

END:VCALENDAR
