BEGIN:VCALENDAR
VERSION:2.0
PRODID:-//hacksw/handcal//NONSGML v1.0//EN
BEGIN:VEVENT
UID:2b04fe7a2929c9c191e42dc610e66994
DTSTAMP:20260426T000127Z

DTSTART:20170602T120000
DTEND:20170611T124500
SUMMARY:BABEL Battle of the Sound
DESCRIPTION:BABEL F.A.S.T. – Festivalul Artelor Spectacolului Târgoviște (2-11 iunie 2017) va fi o explozie spectaculară și poate fi completă doar cu prezența voastră!

X-ALT-DESC;FMTTYPE=text/html:<!DOCTYPE HTML PUBLIC "-//W3C//DTD HTML 3.2//EN">\n<HTML>\n<HEAD>\n<META NAME="Generator" CONTENT="MS Exchange Server version 08.00.0681.000">\n<TITLE></TITLE>\n</HEAD>\n<BODY>\n<!-- Converted from text/rtf format -->\n\nBABEL F.A.S.T. – Festivalul Artelor Spectacolului Târgoviște (2-11 iunie 2017) va fi o explozie spectaculară și poate fi completă doar cu prezența voastră!\n\n</BODY>\n</HTML>

LOCATION:
END:VEVENT

END:VCALENDAR
