BEGIN:VCALENDAR
VERSION:2.0
PRODID:-//hacksw/handcal//NONSGML v1.0//EN
BEGIN:VEVENT
UID:f8906698fd147856e2cd0c75882f0c71
DTSTAMP:20260425T235740Z

DTSTART:20190603T160000
DTEND:20190609T160000
SUMMARY:Festivalul BABELfast 2019 - IMAGINEA
DESCRIPTION:Festivalul Artelor Spectacolului Târgoviște, Babel, care a ajuns la cea de-a IX-a ediție, este organizat de Teatrul Tony Bulandra susținut de Consiliul Local și Primăria Municipiului Târgoviște. În 2019, tema care va reuni sub cupola sa toate spectacolele și manifestările culturale din perioada 03 – 09 iunie este „Imagine”.\n\nConceptul de „imagine” a cucerit lumea contemporană. Cuvintele s-au topit în fața forței cadrelor care se succed cu rapiditate pe toate mediile online și a tuturor instantaneelor artistice culese din lumea largă. Adesea, spectatorii pot alege să meargă la un spectacol doar dacă i-au cucerit pozele făcute în timpul lui, uneori chiar fără să se intereseze asupra echipei artistice sau a subiectului abordat. Întrebarea este cât de mult poate teatrul, odată o artă a cuvântului, să se adapteze domniei imaginii? Am ales să aflăm la cea de-a IX-a ediție a Babel FAST, prin producțiile selectate care vin din țări precum: Cehia, Polonia, Rusia, India, Italia, Belgia, Grecia, Croația, Germania, Bulgaria, Spania, Austria, Coreea de Sud și Lituania.

X-ALT-DESC;FMTTYPE=text/html:<!DOCTYPE HTML PUBLIC "-//W3C//DTD HTML 3.2//EN">\n<HTML>\n<HEAD>\n<META NAME="Generator" CONTENT="MS Exchange Server version 08.00.0681.000">\n<TITLE></TITLE>\n</HEAD>\n<BODY>\n<!-- Converted from text/rtf format -->\n\nFestivalul Artelor Spectacolului Târgoviște, Babel, care a ajuns la cea de-a IX-a ediție, este organizat de Teatrul Tony Bulandra susținut de Consiliul Local și Primăria Municipiului Târgoviște. În 2019, tema care va reuni sub cupola sa toate spectacolele și manifestările culturale din perioada 03 – 09 iunie este „Imagine”.<br /><br />Conceptul de „imagine” a cucerit lumea contemporană. Cuvintele s-au topit în fața forței cadrelor care se succed cu rapiditate pe toate mediile online și a tuturor instantaneelor artistice culese din lumea largă. Adesea, spectatorii pot alege să meargă la un spectacol doar dacă i-au cucerit pozele făcute în timpul lui, uneori chiar fără să se intereseze asupra echipei artistice sau a subiectului abordat. Întrebarea este cât de mult poate teatrul, odată o artă a cuvântului, să se adapteze domniei imaginii? Am ales să aflăm la cea de-a IX-a ediție a Babel FAST, prin producțiile selectate care vin din țări precum: Cehia, Polonia, Rusia, India, Italia, Belgia, Grecia, Croația, Germania, Bulgaria, Spania, Austria, Coreea de Sud și Lituania.\n\n</BODY>\n</HTML>

LOCATION:Bulevardul Regele Carol I nr. 43, Târgoviște, Romania
END:VEVENT

END:VCALENDAR
