BEGIN:VCALENDAR
VERSION:2.0
PRODID:-//hacksw/handcal//NONSGML v1.0//EN
BEGIN:VEVENT
UID:5a41c32d1b341a10ba46d5a56dff1cad
DTSTAMP:20260426T000434Z

DTSTART:20171205T130000
DTEND:20180131T163000
SUMMARY:BIENALA NAŢIONALĂ DE GRAVURĂ „GABRIEL POPESCU”
DESCRIPTION:Consiliul Județean Dâmbovița și Complexul Național Muzeal „Curtea Domnească” Târgoviște vă invită la cea de-a VI-a ediţie a Bienalei Naţionale de Gravură „Gabriel Popescu”. Bienala poartă numele primului mare gravor,  născut pe meleaguri dâmbovițene, care a locuit și a creat – în casa cu atelier de la Vulcana Pandele, unde se află unica presă din lemn, cu valțuri, pentru imprimat gravuri în metal.\n\n         Vernisajul şi festivitatea de înmânare a premiilor vor avea loc marţi, 5 decembrie 2017, ora 13:00, la Muzeul de Artă, str. Calea Domnească, nr. 185.\n\n         În urma jurizării celor 74 de lucrări de gravură înscrise în cadrul Bienalei Naționale de Gravură „Gabriel Popescu”, ediţia a VI-a, Târgovişte, juriul întrunit în componenţa:  conf. univ. dr. Ioana Beldiman – preşedinte, prof. univ. dr. Atena Simionescu – membru, membru în Consiliul Director al UAP din România Răzvan Constantin Caratănase – membru, artist plastic Andrei Scărlătescu – membru, muzeograf Maria Neacşu – secretar, a hotărât premierea a opt lucrări de gravură, realizate de: RADU Aura Evelina, NIȚĂ Rada, FÂNTÂNARIU Suzana, DRAGOȘ Răzvan Petrișor, VOICU Mihail, STRATULAT Cristina, PÎNZARIU Florin, STOICIU Florin.

X-ALT-DESC;FMTTYPE=text/html:<!DOCTYPE HTML PUBLIC "-//W3C//DTD HTML 3.2//EN">\n<HTML>\n<HEAD>\n<META NAME="Generator" CONTENT="MS Exchange Server version 08.00.0681.000">\n<TITLE></TITLE>\n</HEAD>\n<BODY>\n<!-- Converted from text/rtf format -->\n\nConsiliul Județean Dâmbovița și Complexul Național Muzeal „Curtea Domnească” Târgoviște vă invită la cea de-a VI-a ediţie a Bienalei Naţionale de Gravură „Gabriel Popescu”. Bienala poartă numele primului mare gravor,  născut pe meleaguri dâmbovițene, care a locuit și a creat – în casa cu atelier de la Vulcana Pandele, unde se află unica presă din lemn, cu valțuri, pentru imprimat gravuri în metal.<br /><br />         Vernisajul şi festivitatea de înmânare a premiilor vor avea loc marţi, 5 decembrie 2017, ora 13:00, la Muzeul de Artă, str. Calea Domnească, nr. 185.<br /><br />         În urma jurizării celor 74 de lucrări de gravură înscrise în cadrul Bienalei Naționale de Gravură „Gabriel Popescu”, ediţia a VI-a, Târgovişte, juriul întrunit în componenţa:  conf. univ. dr. Ioana Beldiman – preşedinte, prof. univ. dr. Atena Simionescu – membru, membru în Consiliul Director al UAP din România Răzvan Constantin Caratănase – membru, artist plastic Andrei Scărlătescu – membru, muzeograf Maria Neacşu – secretar, a hotărât premierea a opt lucrări de gravură, realizate de: RADU Aura Evelina, NIȚĂ Rada, FÂNTÂNARIU Suzana, DRAGOȘ Răzvan Petrișor, VOICU Mihail, STRATULAT Cristina, PÎNZARIU Florin, STOICIU Florin.\n\n</BODY>\n</HTML>

LOCATION:
END:VEVENT

END:VCALENDAR
