BEGIN:VCALENDAR
VERSION:2.0
PRODID:-//hacksw/handcal//NONSGML v1.0//EN
BEGIN:VEVENT
UID:1f42768926690da65268eb8851323c79
DTSTAMP:20260426T011748Z

DTSTART:20180405T180000
DTEND:20180406T154500
SUMMARY:Calea Luminii
DESCRIPTION:
‼În Joia Mare, pe data de 5 aprilie 2018, începând cu ora 18:00, Consiliul Local și Primăria Municipiului Târgoviște prin Teatrul Tony Bulandra organizează un eveniment care a plecat de la ideea artistului plastic și profesorului Mihai Șerbănescu și care a rămas unic în lume de 19 ediții încoace: Calea Luminii. Manifestarea are loc în parteneriat cu Arhiepiscopia Târgoviște și Școala de Arte „Octav Enigărescu” Târgoviște.‼


Autoritățile locale menționate fac acest eveniment posibil, fiind o adevărată mobilizare de forțe care implică atât Poliția Locală și Rutieră, cât și Serviciul pentru Situații de Urgență și Jandarmeria, dar și presa locală care contribuie la amploarea și însemnătatea acestui eveniment la care, an de an, vin mii de oameni ai comunității târgoviștene.

Un eveniment cu caracter de ritual care, așa cum spune inițiatorul său, Mihai Șerbănescu, semnifică lumina din noi înșine, pe care o purtăm de la naștere până la trecerea în neființă și pe care suntem datori să o răspândim, urmând exemplul lui Isus – Lumina Lumii.

Din punct de vedere artistic, Calea Luminii este un happening – o întâmplare, o provocare pentru târgoviștenii care prin prezența lor numeroasă mențin pecetea unicității.

X-ALT-DESC;FMTTYPE=text/html:<!DOCTYPE HTML PUBLIC "-//W3C//DTD HTML 3.2//EN">\n<HTML>\n<HEAD>\n<META NAME="Generator" CONTENT="MS Exchange Server version 08.00.0681.000">\n<TITLE></TITLE>\n</HEAD>\n<BODY>\n<!-- Converted from text/rtf format -->\n\n
‼În Joia Mare, pe data de 5 aprilie 2018, începând cu ora 18:00, Consiliul Local și Primăria Municipiului Târgoviște prin Teatrul Tony Bulandra organizează un eveniment care a plecat de la ideea artistului plastic și profesorului Mihai Șerbănescu și care a rămas unic în lume de 19 ediții încoace: Calea Luminii. Manifestarea are loc în parteneriat cu Arhiepiscopia Târgoviște și Școala de Arte „Octav Enigărescu” Târgoviște.‼


Autoritățile locale menționate fac acest eveniment posibil, fiind o adevărată mobilizare de forțe care implică atât Poliția Locală și Rutieră, cât și Serviciul pentru Situații de Urgență și Jandarmeria, dar și presa locală care contribuie la amploarea și însemnătatea acestui eveniment la care, an de an, vin mii de oameni ai comunității târgoviștene.

Un eveniment cu caracter de ritual care, așa cum spune inițiatorul său, Mihai Șerbănescu, semnifică lumina din noi înșine, pe care o purtăm de la naștere până la trecerea în neființă și pe care suntem datori să o răspândim, urmând exemplul lui Isus – Lumina Lumii.

Din punct de vedere artistic, Calea Luminii este un happening – o întâmplare, o provocare pentru târgoviștenii care prin prezența lor numeroasă mențin pecetea unicității.\n\n</BODY>\n</HTML>

LOCATION:
END:VEVENT

END:VCALENDAR
