BEGIN:VCALENDAR
VERSION:2.0
PRODID:-//hacksw/handcal//NONSGML v1.0//EN
BEGIN:VEVENT
UID:c6a6decb2cc97ff5329eb5fa88501fb7
DTSTAMP:20260425T235858Z

DTSTART:20180803T020000
DTEND:20180805T023000
SUMMARY:Muscel CloverFest ed.X
DESCRIPTION:Ne pregatim pentru a X-a editie ....

X-ALT-DESC;FMTTYPE=text/html:<!DOCTYPE HTML PUBLIC "-//W3C//DTD HTML 3.2//EN">\n<HTML>\n<HEAD>\n<META NAME="Generator" CONTENT="MS Exchange Server version 08.00.0681.000">\n<TITLE></TITLE>\n</HEAD>\n<BODY>\n<!-- Converted from text/rtf format -->\n\nNe pregatim pentru a X-a editie ....\n\n</BODY>\n</HTML>

LOCATION:Mușcel 117133, România
END:VEVENT

END:VCALENDAR
