BEGIN:VCALENDAR
VERSION:2.0
PRODID:-//hacksw/handcal//NONSGML v1.0//EN
BEGIN:VEVENT
UID:60c3126cbc64e6b1fcb0fbf7c467eb0a
DTSTAMP:20260425T235811Z

DTSTART:20190802T160000
DTEND:20190804T190000
SUMMARY:Cloverfest 11 unu și unu @Muscel
DESCRIPTION:Dedicăm această ediție voluntarilor-buni-de-pus-pe-rană, muscelofanilor care numără trifoi an de an și celor care vor începe de-acum încolo (sic!), trupelor care înțeleg starea de festival, muscelenilor care pun umărul - și celorlalți! Un cloverfest 11 cu oameni unu și unu să avem! #cloverfest2019

X-ALT-DESC;FMTTYPE=text/html:<!DOCTYPE HTML PUBLIC "-//W3C//DTD HTML 3.2//EN">\n<HTML>\n<HEAD>\n<META NAME="Generator" CONTENT="MS Exchange Server version 08.00.0681.000">\n<TITLE></TITLE>\n</HEAD>\n<BODY>\n<!-- Converted from text/rtf format -->\n\nDedicăm această ediție voluntarilor-buni-de-pus-pe-rană, muscelofanilor care numără trifoi an de an și celor care vor începe de-acum încolo (sic!), trupelor care înțeleg starea de festival, muscelenilor care pun umărul - și celorlalți! Un cloverfest 11 cu oameni unu și unu să avem! #cloverfest2019\n\n</BODY>\n</HTML>

LOCATION:Mușcel, România
END:VEVENT

END:VCALENDAR
