BEGIN:VCALENDAR
VERSION:2.0
PRODID:-//hacksw/handcal//NONSGML v1.0//EN
BEGIN:VEVENT
UID:7155ef930dfee7e1c0a1feaec83d27d2
DTSTAMP:20260426T011740Z

DTSTART:20170804T000000
DTEND:20170806T235959
SUMMARY:cLoverFest în cătun Mușcel
DESCRIPTION:Ce vă pregătim:\n– două seri de concerte și open mike.\n– jam sessions ad hoc\n– teatru pentru copii și alte artisticării\n\n– la barul din curte ne vom potoli setea (de bere, de cafea, de povești)\n– vom pune pe foc ceaunele ca să vă facem poftele\n– în grădinile vecine v-am pregătit locuri de cort (*bonus – trifoi cu patru foi, pe alese)

X-ALT-DESC;FMTTYPE=text/html:<!DOCTYPE HTML PUBLIC "-//W3C//DTD HTML 3.2//EN">\n<HTML>\n<HEAD>\n<META NAME="Generator" CONTENT="MS Exchange Server version 08.00.0681.000">\n<TITLE></TITLE>\n</HEAD>\n<BODY>\n<!-- Converted from text/rtf format -->\n\nCe vă pregătim:<br />– două seri de concerte și open mike.<br />– jam sessions ad hoc<br />– teatru pentru copii și alte artisticării<br /><br />– la barul din curte ne vom potoli setea (de bere, de cafea, de povești)<br />– vom pune pe foc ceaunele ca să vă facem poftele<br />– în grădinile vecine v-am pregătit locuri de cort (*bonus – trifoi cu patru foi, pe alese)\n\n</BODY>\n</HTML>

LOCATION:Moroeni, Romania
END:VEVENT

END:VCALENDAR
