BEGIN:VCALENDAR
VERSION:2.0
PRODID:-//hacksw/handcal//NONSGML v1.0//EN
BEGIN:VEVENT
UID:2902d734eed64a9e58a58e2786045e0f
DTSTAMP:20260425T235820Z

DTSTART:20171124T230000
DTEND:20171125T050000
SUMMARY:Concert IRIS @ Belvedere Studio
DESCRIPTION:concert IRIS in Studio Belvedere, centrul vechi

X-ALT-DESC;FMTTYPE=text/html:<!DOCTYPE HTML PUBLIC "-//W3C//DTD HTML 3.2//EN">\n<HTML>\n<HEAD>\n<META NAME="Generator" CONTENT="MS Exchange Server version 08.00.0681.000">\n<TITLE></TITLE>\n</HEAD>\n<BODY>\n<!-- Converted from text/rtf format -->\n\nconcert IRIS in Studio Belvedere, centrul vechi\n\n</BODY>\n</HTML>

LOCATION:
END:VEVENT

END:VCALENDAR
