BEGIN:VCALENDAR
VERSION:2.0
PRODID:-//hacksw/handcal//NONSGML v1.0//EN
BEGIN:VEVENT
UID:b94885dee75061d5ba981d60f7d97251
DTSTAMP:20260426T000129Z

DTSTART:20221201T000000
DTEND:20221203T235959
SUMMARY:Crăciun la Turn
DESCRIPTION:Sărbătorile de iarnă vor fi celebrate în acest an, pentru prima dată, în incinta Curții Domnești. Consiliul Județean Dâmbovița are privilegiul să vă invite încă din prim zi a lunii decembrie, de la ora 17.00, la un concert dedicat Zilei Naționale a României.\n\nPe scena amplasată în Curtea Domnească, în apropierea Tunului Chindiei, vor urca Trupa Distinto, Zavera Band și Diana Matei& Taraful Cleante.\n\nPe parcursul întregii luni, în Curtea Domnească se vor afla un patinoar, căsuțe cu cele mai bune dulciuri și cele mai frumoase decorațiuni de Crăciun, ciocolată, ceaiuri și alte băuturi calde.\n\nDe asemenea, Curtea Domnească va fi luminată de mii de luminițe, iar colindătorii din întreg județul îi vor încânta pe toți cei care vor petrece Crăciunul la Turn.

X-ALT-DESC;FMTTYPE=text/html:<!DOCTYPE HTML PUBLIC "-//W3C//DTD HTML 3.2//EN">\n<HTML>\n<HEAD>\n<META NAME="Generator" CONTENT="MS Exchange Server version 08.00.0681.000">\n<TITLE></TITLE>\n</HEAD>\n<BODY>\n<!-- Converted from text/rtf format -->\n\nSărbătorile de iarnă vor fi celebrate în acest an, pentru prima dată, în incinta Curții Domnești. Consiliul Județean Dâmbovița are privilegiul să vă invite încă din prim zi a lunii decembrie, de la ora 17.00, la un concert dedicat Zilei Naționale a României.<br /><br />Pe scena amplasată în Curtea Domnească, în apropierea Tunului Chindiei, vor urca Trupa Distinto, Zavera Band și Diana Matei& Taraful Cleante.<br /><br />Pe parcursul întregii luni, în Curtea Domnească se vor afla un patinoar, căsuțe cu cele mai bune dulciuri și cele mai frumoase decorațiuni de Crăciun, ciocolată, ceaiuri și alte băuturi calde.<br /><br />De asemenea, Curtea Domnească va fi luminată de mii de luminițe, iar colindătorii din întreg județul îi vor încânta pe toți cei care vor petrece Crăciunul la Turn.\n\n</BODY>\n</HTML>

LOCATION:Turnul Chindiei, Calea Domnească, Târgoviște, Dâmbovița, 130008, România
END:VEVENT

END:VCALENDAR
