BEGIN:VCALENDAR
VERSION:2.0
PRODID:-//hacksw/handcal//NONSGML v1.0//EN
BEGIN:VEVENT
UID:d18a92c81c04ef2760b75ee0d9dd2d58
DTSTAMP:20260425T235945Z

DTSTART:20171019T150000
DTEND:20171021T153000
SUMMARY:Crizantema de Aur 2017 a 50-a editie
DESCRIPTION:a 50-a ediţie a Festivalului Național de Interpretare și Creație a Romanței Românești „Crizantema de Aur”, sub patronajul Comisiei Naționale a României pentru UNESCO. Festivalul este organizat de Consiliul Local Târgoviște, Primăria Municipiului Târgoviște, Consiliul Judeţean Dâmboviţa, Centrul Judeţean de Cultură Dâmboviţa și Teatrul „Tony Bulandra” Târgoviște, în colaborare cu Uniunea Compozitorilor și Muzicologilor din România și cu Uniunea Muzicienilor din Moldova și în parteneriat cu Radio România și cu Televiziunea Română.

X-ALT-DESC;FMTTYPE=text/html:<!DOCTYPE HTML PUBLIC "-//W3C//DTD HTML 3.2//EN">\n<HTML>\n<HEAD>\n<META NAME="Generator" CONTENT="MS Exchange Server version 08.00.0681.000">\n<TITLE></TITLE>\n</HEAD>\n<BODY>\n<!-- Converted from text/rtf format -->\n\na 50-a ediţie a Festivalului Național de Interpretare și Creație a Romanței Românești „Crizantema de Aur”, sub patronajul Comisiei Naționale a României pentru UNESCO. Festivalul este organizat de Consiliul Local Târgoviște, Primăria Municipiului Târgoviște, Consiliul Judeţean Dâmboviţa, Centrul Judeţean de Cultură Dâmboviţa și Teatrul „Tony Bulandra” Târgoviște, în colaborare cu Uniunea Compozitorilor și Muzicologilor din România și cu Uniunea Muzicienilor din Moldova și în parteneriat cu Radio România și cu Televiziunea Română.\n\n</BODY>\n</HTML>

LOCATION:
END:VEVENT

END:VCALENDAR
