BEGIN:VCALENDAR
VERSION:2.0
PRODID:-//hacksw/handcal//NONSGML v1.0//EN
BEGIN:VEVENT
UID:90a96bc27c2eaf27481cd9957e65c8c6
DTSTAMP:20260425T235901Z

DTSTART:20181018T100000
DTEND:20181020T100000
SUMMARY:CRIZANTEMA DE AUR – ediția a 51-a
DESCRIPTION:Luni, 18 iunie 2018, ora 11:00, la sediul UCMR-ADA din București, s-a desfășurat Preselecția Națională pentru Concursul de Creație din cadrul Festivalului Național de Interpretare și Creație a Romanței CRIZANTEMA DE AUR – ediția a 51-a, 2018.\n\nLa preselecție au fost înscrise 18 romanțe în primă audiție, dintre care au fost admise 12 romanțe pentru a intra în etapa finală a Concursului de Creație.\n\nÎn urma deliberării juriului desemnat de Uniunea Compozitorilor și Muzicologilor din România, romanțele în primă audiție admise în etapa finală a Concursului de Creație sunt următoarele (ordinea redării nu reprezintă o ierarhizare):\n\n \n\n    ADRIAN BURHALĂ – Târgoviște, „Romanța împlinirii” – versuri: Mariana Eftimie Kabbout.\n    CONSTANTIN BARDAN – Iași, „Povestea mea” – versuri: Viorel Vașuta.\n    GHEORGHIȚA BURCEA – București, „De-ai ști să asculți” –  versuri: Gheorghița Burcea.\n    IONEL BRATU VOICESCU – București, „Amândoi” – versuri: Ionel Bratu Voicescu.\n    IONEL CROITORU – București, „Ah, lăsați-mă în pace!” –  versuri: Ionel Croitoru.\n    MARCEL IORGA –  Vaslui, „Romanța inelului”  – versuri: Carmen Aldea Vlad.\n    MARCEL MAXIM – Iași, „De ce pleci? De ce-ai veni?” – versuri: Viorel Vașuta.\n    MARCEL MORĂRESCU – Târgoviște, „Pe sub castanii înfloriți” –  versuri: George Coandă, Marcel Morărescu\n    NICOLAE CARAGIA  –  Ilfov, „Povestea mea”  –  versuri: Sorina Bosoancă.\n    OVIDIU KOMORNYIK – București, „Romanța malului de mare” –  versuri: Carmen Aldea Vlad.\n    RODICA VOICU –  Târgoviște, „În orașul crizantemelor”  –  versuri: Corin Bianu.\n    VIOREL COVACI – București, „Romanța pădurii” – versuri: Marian Stere.\n\n \n\nNotă: Lista urmează să fie completată cu încă 2 romanțe în primă audiție selectate în cadrul preselecției organizate la Chișinău, Republica Moldova, conform Regulamentului oficial.\n\nCompozitorii ale căror romanțe în primă audiție au fost admise pentru etapa finală a Concursului de Creație sunt rugați să pregătească orchestrațiile și să le transmită până la data de 31 august a.c. la Centrul Cultural pentru UNESCO „Cetatea Romanței” Târgoviște pe adresa de e-mail centrul.cultural.unesco.tgv@gmail.com și pe adresa poștei: Centrul Cultural pentru UNESCO „Cetatea Romanței” Târgoviște, Str. Tudor Vladimirescu nr. 46A, etaj 3, Târgoviște, jud. Dâmbovița, cu precizarea „Orchestrație pentru romanța […]”.\n\nAvând în vedere că organizatorii acestui mare eveniment muzical național doresc ca Festivalul să aibă o calitate artistică deosebită, concurenții secțiunii Creație sunt rugați să respecte Regulamentul Oficial al Festivalului și să apeleze la artiști profesioniști, la laureați ai Festivalului „CRIZANTEMA DE AUR” – pentru interpretarea romanțelor în primă audiție.\n\nAcompaniamentul profesionist pentru Concursul de Creație este asigurat de Orchestra „Romanța”, dirijor Lucian Vlădescu.

X-ALT-DESC;FMTTYPE=text/html:<!DOCTYPE HTML PUBLIC "-//W3C//DTD HTML 3.2//EN">\n<HTML>\n<HEAD>\n<META NAME="Generator" CONTENT="MS Exchange Server version 08.00.0681.000">\n<TITLE></TITLE>\n</HEAD>\n<BODY>\n<!-- Converted from text/rtf format -->\n\nLuni, 18 iunie 2018, ora 11:00, la sediul UCMR-ADA din București, s-a desfășurat Preselecția Națională pentru Concursul de Creație din cadrul Festivalului Național de Interpretare și Creație a Romanței CRIZANTEMA DE AUR – ediția a 51-a, 2018.<br /><br />La preselecție au fost înscrise 18 romanțe în primă audiție, dintre care au fost admise 12 romanțe pentru a intra în etapa finală a Concursului de Creație.<br /><br />În urma deliberării juriului desemnat de Uniunea Compozitorilor și Muzicologilor din România, romanțele în primă audiție admise în etapa finală a Concursului de Creație sunt următoarele (ordinea redării nu reprezintă o ierarhizare):<br /><br /> <br /><br />    ADRIAN BURHALĂ – Târgoviște, „Romanța împlinirii” – versuri: Mariana Eftimie Kabbout.<br />    CONSTANTIN BARDAN – Iași, „Povestea mea” – versuri: Viorel Vașuta.<br />    GHEORGHIȚA BURCEA – București, „De-ai ști să asculți” –  versuri: Gheorghița Burcea.<br />    IONEL BRATU VOICESCU – București, „Amândoi” – versuri: Ionel Bratu Voicescu.<br />    IONEL CROITORU – București, „Ah, lăsați-mă în pace!” –  versuri: Ionel Croitoru.<br />    MARCEL IORGA –  Vaslui, „Romanța inelului”  – versuri: Carmen Aldea Vlad.<br />    MARCEL MAXIM – Iași, „De ce pleci? De ce-ai veni?” – versuri: Viorel Vașuta.<br />    MARCEL MORĂRESCU – Târgoviște, „Pe sub castanii înfloriți” –  versuri: George Coandă, Marcel Morărescu<br />    NICOLAE CARAGIA  –  Ilfov, „Povestea mea”  –  versuri: Sorina Bosoancă.<br />    OVIDIU KOMORNYIK – București, „Romanța malului de mare” –  versuri: Carmen Aldea Vlad.<br />    RODICA VOICU –  Târgoviște, „În orașul crizantemelor”  –  versuri: Corin Bianu.<br />    VIOREL COVACI – București, „Romanța pădurii” – versuri: Marian Stere.<br /><br /> <br /><br />Notă: Lista urmează să fie completată cu încă 2 romanțe în primă audiție selectate în cadrul preselecției organizate la Chișinău, Republica Moldova, conform Regulamentului oficial.<br /><br />Compozitorii ale căror romanțe în primă audiție au fost admise pentru etapa finală a Concursului de Creație sunt rugați să pregătească orchestrațiile și să le transmită până la data de 31 august a.c. la Centrul Cultural pentru UNESCO „Cetatea Romanței” Târgoviște pe adresa de e-mail centrul.cultural.unesco.tgv@gmail.com și pe adresa poștei: Centrul Cultural pentru UNESCO „Cetatea Romanței” Târgoviște, Str. Tudor Vladimirescu nr. 46A, etaj 3, Târgoviște, jud. Dâmbovița, cu precizarea „Orchestrație pentru romanța […]”.<br /><br />Având în vedere că organizatorii acestui mare eveniment muzical național doresc ca Festivalul să aibă o calitate artistică deosebită, concurenții secțiunii Creație sunt rugați să respecte Regulamentul Oficial al Festivalului și să apeleze la artiști profesioniști, la laureați ai Festivalului „CRIZANTEMA DE AUR” – pentru interpretarea romanțelor în primă audiție.<br /><br />Acompaniamentul profesionist pentru Concursul de Creație este asigurat de Orchestra „Romanța”, dirijor Lucian Vlădescu.\n\n</BODY>\n</HTML>

LOCATION:Târgoviște, România
END:VEVENT

END:VCALENDAR
