BEGIN:VCALENDAR
VERSION:2.0
PRODID:-//hacksw/handcal//NONSGML v1.0//EN
BEGIN:VEVENT
UID:f49d4b0ac3dd9681140caeac223888d3
DTSTAMP:20260426T010302Z

DTSTART:20191013T000000
DTEND:20191013T235959
SUMMARY:CSM Târgoviște - CS "U" NTT Data Cluj
DESCRIPTION:volei feminin

X-ALT-DESC;FMTTYPE=text/html:<!DOCTYPE HTML PUBLIC "-//W3C//DTD HTML 3.2//EN">\n<HTML>\n<HEAD>\n<META NAME="Generator" CONTENT="MS Exchange Server version 08.00.0681.000">\n<TITLE></TITLE>\n</HEAD>\n<BODY>\n<!-- Converted from text/rtf format -->\n\nvolei feminin\n\n</BODY>\n</HTML>

LOCATION:Bulevardul Eroilor 11, Târgoviște 137431, România
END:VEVENT

END:VCALENDAR
