BEGIN:VCALENDAR
VERSION:2.0
PRODID:-//hacksw/handcal//NONSGML v1.0//EN
BEGIN:VEVENT
UID:9ba3def02a7cb463c09c9fb5a9d4f7c7
DTSTAMP:20260425T235742Z

DTSTART:20180108T180000
DTEND:20180109T200000
SUMMARY:Volei - CSM Targoviste vs. Levski Sofia 
DESCRIPTION:CEV Challenge Cup - 1/16 Finale - Jocul retur . Singura echipa damboviteana care participa in Cupele Europene, va invita la meciul retur din saisprezecimile de finala ale CEV Challenge Cup, dintre CSM Targoviste si Levski Sofia.

X-ALT-DESC;FMTTYPE=text/html:<!DOCTYPE HTML PUBLIC "-//W3C//DTD HTML 3.2//EN">\n<HTML>\n<HEAD>\n<META NAME="Generator" CONTENT="MS Exchange Server version 08.00.0681.000">\n<TITLE></TITLE>\n</HEAD>\n<BODY>\n<!-- Converted from text/rtf format -->\n\nCEV Challenge Cup - 1/16 Finale - Jocul retur . Singura echipa damboviteana care participa in Cupele Europene, va invita la meciul retur din saisprezecimile de finala ale CEV Challenge Cup, dintre CSM Targoviste si Levski Sofia.\n\n</BODY>\n</HTML>

LOCATION:
END:VEVENT

END:VCALENDAR
