BEGIN:VCALENDAR
VERSION:2.0
PRODID:-//hacksw/handcal//NONSGML v1.0//EN
BEGIN:VEVENT
UID:a8d5c4c0b14f0bc095890c40f8b93c16
DTSTAMP:20260425T235600Z

DTSTART:20190607T180000
DTEND:20190607T190000
SUMMARY:CUBE by Laterna Magika @Casa Sindicatelor
DESCRIPTION:o producție marca: Laterna Magika, Cehia, în premieră în România, pentru BABEL FAST\n\n\nregia artistică: Pavel Knolle\nscenariu: Pavel Knolle, Štěpán Pechar, David Stránský\ndecor și costume: Pavel Knolle\ncoregrafia: Štěpán Pechar, David Stránský\nmuzica: Jan Šikl\ndramaturgia: Jan Tošovský\n\n\nîn distribuție: | Adéla Abdul Khaleg | Pavlína Červíčková | Zuzana Herényiová | Tereza Chábová | Eva Zápotocká | Tamara Kšírová | Libor Kettner | Ondřej Martiš | Alexandr Sadirov | Adam Sojka | Viktor Svidró | David Stránský | Patrik Čermák\n\n  „Cubul” este un spectacol de o oră, în cadrul proiectului de success LaternaLAB, Laterna Magika combinând imaginile de film cu spectacolele live. Se folosește de video mapping și de câteva proiectoare puse în diverse locuri. Compoziția vizuală se bazează pe motivul cubului, în toate variantele posibile ce ne înconjoară. Datorită structurii sale și posibilităților aduse de vizualizarea 3D, cubul Rubik va reprezenta unul dintre principalele motive. Printr-o scenografie foarte simplă și detaliată, proiecție centrată exact, e posibil să schimbi remarcabil perspectiva, mișcarea și suprafața, astfel afectând total spațiul, dinamismul și timpul. O coregrafie modernă și precisă îmbunătățește iluzia filmului și, viceversa, iluzia filmului susține mișcarea interpretului pe scenă. \n\n  Laterna Magika și-a început istoria în anul 1958. Prima perioadă, creată de regizorul Alfréd Radok și scenografist Josef Svoboda, a început la expoziția mondială EXPO 58 din Bruxelles, Belgia. Programul prezentat în pavilionul cehoslovac a fost numit „Laterna magika” și, ulterior, și-a dat numele teatrului din Praga, reconstruit la 1959 după succesul mondial la EXPO. A doua perioadă a fost prezentată la EXPO 67 din Montreal, Canada, precum și la EXPO 70 din Osaka, Japonia, iar cu aceste spectacole teatrul a călătorit în lume.\n\n  La mijlocul anilor șaptezeci, Laterna Magika a devenit  parte a Teatrului Național din Praga, sub conducerea regizorului artistic Josef Svoboda, care a fost inițiatorul acestui mediu special, care nu folosește cuvintele ci doar combinația de proiecție de film și mass-media  de scenă – dans, sunet, lumini, pantomimă, teatru negru etc. Există un efort susținut care creează, până în prezent, chipul Laterna Magika – căutarea unui drum spre un teatru specific care să poată spune o poveste folosind variate teme și mijloace de comunicare.\n

X-ALT-DESC;FMTTYPE=text/html:<!DOCTYPE HTML PUBLIC "-//W3C//DTD HTML 3.2//EN">\n<HTML>\n<HEAD>\n<META NAME="Generator" CONTENT="MS Exchange Server version 08.00.0681.000">\n<TITLE></TITLE>\n</HEAD>\n<BODY>\n<!-- Converted from text/rtf format -->\n\no producție marca: Laterna Magika, Cehia, în premieră în România, pentru BABEL FAST<br /><br /><br />regia artistică: Pavel Knolle<br />scenariu: Pavel Knolle, Štěpán Pechar, David Stránský<br />decor și costume: Pavel Knolle<br />coregrafia: Štěpán Pechar, David Stránský<br />muzica: Jan Šikl<br />dramaturgia: Jan Tošovský<br /><br /><br />în distribuție: | Adéla Abdul Khaleg | Pavlína Červíčková | Zuzana Herényiová | Tereza Chábová | Eva Zápotocká | Tamara Kšírová | Libor Kettner | Ondřej Martiš | Alexandr Sadirov | Adam Sojka | Viktor Svidró | David Stránský | Patrik Čermák<br /><br />  „Cubul” este un spectacol de o oră, în cadrul proiectului de success LaternaLAB, Laterna Magika combinând imaginile de film cu spectacolele live. Se folosește de video mapping și de câteva proiectoare puse în diverse locuri. Compoziția vizuală se bazează pe motivul cubului, în toate variantele posibile ce ne înconjoară. Datorită structurii sale și posibilităților aduse de vizualizarea 3D, cubul Rubik va reprezenta unul dintre principalele motive. Printr-o scenografie foarte simplă și detaliată, proiecție centrată exact, e posibil să schimbi remarcabil perspectiva, mișcarea și suprafața, astfel afectând total spațiul, dinamismul și timpul. O coregrafie modernă și precisă îmbunătățește iluzia filmului și, viceversa, iluzia filmului susține mișcarea interpretului pe scenă. <br /><br />  Laterna Magika și-a început istoria în anul 1958. Prima perioadă, creată de regizorul Alfréd Radok și scenografist Josef Svoboda, a început la expoziția mondială EXPO 58 din Bruxelles, Belgia. Programul prezentat în pavilionul cehoslovac a fost numit „Laterna magika” și, ulterior, și-a dat numele teatrului din Praga, reconstruit la 1959 după succesul mondial la EXPO. A doua perioadă a fost prezentată la EXPO 67 din Montreal, Canada, precum și la EXPO 70 din Osaka, Japonia, iar cu aceste spectacole teatrul a călătorit în lume.<br /><br />  La mijlocul anilor șaptezeci, Laterna Magika a devenit  parte a Teatrului Național din Praga, sub conducerea regizorului artistic Josef Svoboda, care a fost inițiatorul acestui mediu special, care nu folosește cuvintele ci doar combinația de proiecție de film și mass-media  de scenă – dans, sunet, lumini, pantomimă, teatru negru etc. Există un efort susținut care creează, până în prezent, chipul Laterna Magika – căutarea unui drum spre un teatru specific care să poată spune o poveste folosind variate teme și mijloace de comunicare.<br />\n\n</BODY>\n</HTML>

LOCATION:Pta Mihai Viteazu, 1, Târgoviste, Dâmbovita, 130018, Târgoviște, România
END:VEVENT

END:VCALENDAR
