BEGIN:VCALENDAR
VERSION:2.0
PRODID:-//hacksw/handcal//NONSGML v1.0//EN
BEGIN:VEVENT
UID:8e0c073606cf04f18fab972440a7ae4e
DTSTAMP:20260426T000016Z

DTSTART:20180324T100000
DTEND:20180324T130000
SUMMARY:„Cupa Primăverii” la înot
DESCRIPTION:Ajunsă la ediția a 2-a, „Cupa Primăverii” la înot este un eveniment destinat copiilor dâmbovițeni, cu vârsta maximă de 14 ani. Se va înota liber, liber cu plută, spate și spate cu plută, pe distanța de 50 m. Vor fi premiați toți participanții la concursul din 24 martie, găzduit de Complexul Turistic de Natație Târgoviște.

X-ALT-DESC;FMTTYPE=text/html:<!DOCTYPE HTML PUBLIC "-//W3C//DTD HTML 3.2//EN">\n<HTML>\n<HEAD>\n<META NAME="Generator" CONTENT="MS Exchange Server version 08.00.0681.000">\n<TITLE></TITLE>\n</HEAD>\n<BODY>\n<!-- Converted from text/rtf format -->\n\nAjunsă la ediția a 2-a, „Cupa Primăverii” la înot este un eveniment destinat copiilor dâmbovițeni, cu vârsta maximă de 14 ani. Se va înota liber, liber cu plută, spate și spate cu plută, pe distanța de 50 m. Vor fi premiați toți participanții la concursul din 24 martie, găzduit de Complexul Turistic de Natație Târgoviște.\n\n</BODY>\n</HTML>

LOCATION:
END:VEVENT

END:VCALENDAR
