BEGIN:VCALENDAR
VERSION:2.0
PRODID:-//hacksw/handcal//NONSGML v1.0//EN
BEGIN:VEVENT
UID:c9d174121d48b6739dbf43d66d5037e0
DTSTAMP:20260426T000224Z

DTSTART:20210208T193000
DTEND:20210208T213000
SUMMARY:Directia 5 -"Povestea noastra - 30 de ani"
DESCRIPTION: TURNEUL NAȚIONAL DIRECȚIA 5 -"POVESTEA NOASTRĂ - 30 de ani".\n\nAvem de spus o poveste, povestea celor 30 de ani, a discurilor noastre, a cântecelor care au intrat în casele dumneavoastră și în viața voastră, povestea celor 30 de ani de satisfacții artistice și a celor 30 de ani norocoși, că muzica noastră v-a plăcut.\nVă mulțumim pentru tot și numele turneului nostru se leagă perfect cu titlul cântecului nostru: "POVESTEA NOASTRĂ". \nÎn acest turneu aducem pe scenă cântece care v-au bucurat în toți acești ani plus unele noi-nouțe, pe care, dacă avem noroc, le veți iubi. Semnează: Direcția 5.\n

X-ALT-DESC;FMTTYPE=text/html:<!DOCTYPE HTML PUBLIC "-//W3C//DTD HTML 3.2//EN">\n<HTML>\n<HEAD>\n<META NAME="Generator" CONTENT="MS Exchange Server version 08.00.0681.000">\n<TITLE></TITLE>\n</HEAD>\n<BODY>\n<!-- Converted from text/rtf format -->\n\n TURNEUL NAȚIONAL DIRECȚIA 5 -"POVESTEA NOASTRĂ - 30 de ani".<br /><br />Avem de spus o poveste, povestea celor 30 de ani, a discurilor noastre, a cântecelor care au intrat în casele dumneavoastră și în viața voastră, povestea celor 30 de ani de satisfacții artistice și a celor 30 de ani norocoși, că muzica noastră v-a plăcut.<br />Vă mulțumim pentru tot și numele turneului nostru se leagă perfect cu titlul cântecului nostru: "POVESTEA NOASTRĂ". <br />În acest turneu aducem pe scenă cântece care v-au bucurat în toți acești ani plus unele noi-nouțe, pe care, dacă avem noroc, le veți iubi. Semnează: Direcția 5.<br />\n\n</BODY>\n</HTML>

LOCATION:Strada Tony Bulandra, Târgoviște, Dâmbovița, 130145, România
END:VEVENT

END:VCALENDAR
