BEGIN:VCALENDAR
VERSION:2.0
PRODID:-//hacksw/handcal//NONSGML v1.0//EN
BEGIN:VEVENT
UID:ad72b2a71f637c56b7aa35c9d463cb1b
DTSTAMP:20260426T035904Z

DTSTART:20181231T140000
DTEND:20190102T110000
SUMMARY:Drums NY19 @ Castelul Cantacuzino
DESCRIPTION:New Year's at a castle\n\n2 days and nights of a winter venture,\n\nBusteni, Romania - the beginning of a fairytale.\n\nLineup (in alphabetical order):\n\nBaltazar\nBarac\nCally\nDan Andrei\nGescu\nHerodot\nLumieux\nMaher Daniel\nPrichindel\nr.hitect\nSepp\n

X-ALT-DESC;FMTTYPE=text/html:<!DOCTYPE HTML PUBLIC "-//W3C//DTD HTML 3.2//EN">\n<HTML>\n<HEAD>\n<META NAME="Generator" CONTENT="MS Exchange Server version 08.00.0681.000">\n<TITLE></TITLE>\n</HEAD>\n<BODY>\n<!-- Converted from text/rtf format -->\n\nNew Year's at a castle<br /><br />2 days and nights of a winter venture,<br /><br />Busteni, Romania - the beginning of a fairytale.<br /><br />Lineup (in alphabetical order):<br /><br />Baltazar<br />Barac<br />Cally<br />Dan Andrei<br />Gescu<br />Herodot<br />Lumieux<br />Maher Daniel<br />Prichindel<br />r.hitect<br />Sepp<br />\n\n</BODY>\n</HTML>

LOCATION:
END:VEVENT

END:VCALENDAR
