BEGIN:VCALENDAR
VERSION:2.0
PRODID:-//hacksw/handcal//NONSGML v1.0//EN
BEGIN:VEVENT
UID:3ae47db5b9f5dba12eb36560753139f6
DTSTAMP:20260425T235609Z

DTSTART:20181120T200000
DTEND:20181120T230000
SUMMARY:Elixir
DESCRIPTION:Foşti iubiţi, Adam şi Louise trăiesc la mii de kilometri depărtare unul de celălalt, el la Paris, ea în Montréal. Corespondând pe e-mail, cei doi îşi evocă trecutul comun, rănile încă neînchise, momentele de bucurie, dar şi noile relaţii.\n\nCeea ce-i apropie însă a doua oară este prietenia, construită de comun acord şi însoţită de o provocare: ar putea să-şi reînvie dragostea tocmai vorbind despre dragoste?\n\nDistribuţia: MAIA MORGENSTERN şi MARIUS BODOCHI\nDecor: ANCA CERNEA\nRegia: MARCEL TOP\nCostume: TEODORA BURZ\n\nPreţul unui bilet este de 90 RON

X-ALT-DESC;FMTTYPE=text/html:<!DOCTYPE HTML PUBLIC "-//W3C//DTD HTML 3.2//EN">\n<HTML>\n<HEAD>\n<META NAME="Generator" CONTENT="MS Exchange Server version 08.00.0681.000">\n<TITLE></TITLE>\n</HEAD>\n<BODY>\n<!-- Converted from text/rtf format -->\n\nFoşti iubiţi, Adam şi Louise trăiesc la mii de kilometri depărtare unul de celălalt, el la Paris, ea în Montréal. Corespondând pe e-mail, cei doi îşi evocă trecutul comun, rănile încă neînchise, momentele de bucurie, dar şi noile relaţii.<br /><br />Ceea ce-i apropie însă a doua oară este prietenia, construită de comun acord şi însoţită de o provocare: ar putea să-şi reînvie dragostea tocmai vorbind despre dragoste?<br /><br />Distribuţia: MAIA MORGENSTERN şi MARIUS BODOCHI<br />Decor: ANCA CERNEA<br />Regia: MARCEL TOP<br />Costume: TEODORA BURZ<br /><br />Preţul unui bilet este de 90 RON\n\n</BODY>\n</HTML>

LOCATION:Bulevardul Regele Carol I nr. 43, Târgoviște, România
END:VEVENT

END:VCALENDAR
