BEGIN:VCALENDAR
VERSION:2.0
PRODID:-//hacksw/handcal//NONSGML v1.0//EN
BEGIN:VEVENT
UID:fe7df1b5314ca797dc575b6d2e5bcac0
DTSTAMP:20260426T000109Z

DTSTART:20190606T200000
DTEND:20190606T204500
SUMMARY:Esquilibrio @Piata Mihai Viteazu
DESCRIPTION:Teatrul Tony Bulandra vă așteaptă, joi 6 iunie, de la orele 2o:oo, în Piața Mihai Viteazul / Curtea Domnească din Târgoviște, pentru a urmări – Esquilibrio -  ?\n\no producție marca: Jonathan Marquis, Italia pentru: BABEL FAST\n\nregia artistică: Jonathan Marquis\n\n\n   Spectacolul „Esquilibrio” îmbină arta jongleriei și a acrobației cu spectaculosul focului. Trucuri amuzante și momente de interacțiune cu publicul îi fac pe spectatori să participe la virtuozități de circ și jocuri hilare; publicul devine protagonistul, asigurând stimuli pentru improvizație și noi numere care vor face ca show-ul să fie unic, o experiență irepetabilă. \n\n\n  ‼ Accesul este GRATUIT ‼\n

X-ALT-DESC;FMTTYPE=text/html:<!DOCTYPE HTML PUBLIC "-//W3C//DTD HTML 3.2//EN">\n<HTML>\n<HEAD>\n<META NAME="Generator" CONTENT="MS Exchange Server version 08.00.0681.000">\n<TITLE></TITLE>\n</HEAD>\n<BODY>\n<!-- Converted from text/rtf format -->\n\nTeatrul Tony Bulandra vă așteaptă, joi 6 iunie, de la orele 2o:oo, în Piața Mihai Viteazul / Curtea Domnească din Târgoviște, pentru a urmări – Esquilibrio -  ?<br /><br />o producție marca: Jonathan Marquis, Italia pentru: BABEL FAST<br /><br />regia artistică: Jonathan Marquis<br /><br /><br />   Spectacolul „Esquilibrio” îmbină arta jongleriei și a acrobației cu spectaculosul focului. Trucuri amuzante și momente de interacțiune cu publicul îi fac pe spectatori să participe la virtuozități de circ și jocuri hilare; publicul devine protagonistul, asigurând stimuli pentru improvizație și noi numere care vor face ca show-ul să fie unic, o experiență irepetabilă. <br /><br /><br />  ‼ Accesul este GRATUIT ‼<br />\n\n</BODY>\n</HTML>

LOCATION:Pta Mihai Viteazu, 1, Târgoviste, Dâmbovita, 130018, Târgoviște, România
END:VEVENT

END:VCALENDAR
