BEGIN:VCALENDAR
VERSION:2.0
PRODID:-//hacksw/handcal//NONSGML v1.0//EN
BEGIN:VEVENT
UID:020710567b04c5474a1dfb07a06a2156
DTSTAMP:20260425T235941Z

DTSTART:20190607T200000
DTEND:20190607T213000
SUMMARY:FANTEZIA MEDEEI by The Nomad Production
DESCRIPTION:Asemenea piesei originale de Euripide, Medeea noastră prezintă acte de răzbunare (crime împotriva copiilor, uciderea fiicei lui Creon) numai din cauză că a fost părăsită de Iason. Spectacolul este dinamic datorită intervenției corului, alter ego al Medeei. Chiar și în secolul XXI, problemele femeilor și conștiința lor de sine sunt privite cu prejudecată. Am propus o altă abordare, reinventând spectacolul pentru a transmite idei novatoare despre condiția femeii.

X-ALT-DESC;FMTTYPE=text/html:<!DOCTYPE HTML PUBLIC "-//W3C//DTD HTML 3.2//EN">\n<HTML>\n<HEAD>\n<META NAME="Generator" CONTENT="MS Exchange Server version 08.00.0681.000">\n<TITLE></TITLE>\n</HEAD>\n<BODY>\n<!-- Converted from text/rtf format -->\n\nAsemenea piesei originale de Euripide, Medeea noastră prezintă acte de răzbunare (crime împotriva copiilor, uciderea fiicei lui Creon) numai din cauză că a fost părăsită de Iason. Spectacolul este dinamic datorită intervenției corului, alter ego al Medeei. Chiar și în secolul XXI, problemele femeilor și conștiința lor de sine sunt privite cu prejudecată. Am propus o altă abordare, reinventând spectacolul pentru a transmite idei novatoare despre condiția femeii.\n\n</BODY>\n</HTML>

LOCATION:Bulevardul Regele Carol I nr. 43, Târgoviște, România
END:VEVENT

END:VCALENDAR
