BEGIN:VCALENDAR
VERSION:2.0
PRODID:-//hacksw/handcal//NONSGML v1.0//EN
BEGIN:VEVENT
UID:6d3288193ed9ea226203be13d79c04ab
DTSTAMP:20260426T000128Z

DTSTART:20181108T190000
DTEND:20181108T230000
SUMMARY:Le Boudoir collection by Lukyana Gropescu
DESCRIPTION:Fashion Show

X-ALT-DESC;FMTTYPE=text/html:<!DOCTYPE HTML PUBLIC "-//W3C//DTD HTML 3.2//EN">\n<HTML>\n<HEAD>\n<META NAME="Generator" CONTENT="MS Exchange Server version 08.00.0681.000">\n<TITLE></TITLE>\n</HEAD>\n<BODY>\n<!-- Converted from text/rtf format -->\n\nFashion Show\n\n</BODY>\n</HTML>

LOCATION:Bulevardul Ion Constantin Brătianu D4, Târgoviște 137455, România
END:VEVENT

END:VCALENDAR
