BEGIN:VCALENDAR
VERSION:2.0
PRODID:-//hacksw/handcal//NONSGML v1.0//EN
BEGIN:VEVENT
UID:f005b0b1a1d17700af8ed9ced3aae4ec
DTSTAMP:20260426T012050Z

DTSTART:20171007T000000
DTEND:20171008T221500
SUMMARY:Festival "Laura Stoica" ed.I
DESCRIPTION:Aşa cum a obişnuit deja publicul, Consiliul Judeţean Dâmboviţa, prin Centrul Judeţean de Cultură Dâmboviţa promovează valorile autentice şi încearcă să menţină vie amintirea unor personalităţi care au scris istorie în domeniul artistic. Este şi cazul iubitei interprete de muzică uşoară, Laura Stoica, personalitate multivalentă, a cărei voce s-a remarcat atât pe scenele din ţară cât şi din străinătate.

X-ALT-DESC;FMTTYPE=text/html:<!DOCTYPE HTML PUBLIC "-//W3C//DTD HTML 3.2//EN">\n<HTML>\n<HEAD>\n<META NAME="Generator" CONTENT="MS Exchange Server version 08.00.0681.000">\n<TITLE></TITLE>\n</HEAD>\n<BODY>\n<!-- Converted from text/rtf format -->\n\nAşa cum a obişnuit deja publicul, Consiliul Judeţean Dâmboviţa, prin Centrul Judeţean de Cultură Dâmboviţa promovează valorile autentice şi încearcă să menţină vie amintirea unor personalităţi care au scris istorie în domeniul artistic. Este şi cazul iubitei interprete de muzică uşoară, Laura Stoica, personalitate multivalentă, a cărei voce s-a remarcat atât pe scenele din ţară cât şi din străinătate.\n\n</BODY>\n</HTML>

LOCATION:
END:VEVENT

END:VCALENDAR
