BEGIN:VCALENDAR
VERSION:2.0
PRODID:-//hacksw/handcal//NONSGML v1.0//EN
BEGIN:VEVENT
UID:38618bcaed2cd037a404dc90c01b0f93
DTSTAMP:20260426T011929Z

DTSTART:20190605T190000
DTEND:20190605T200000
SUMMARY:Fiecare Om @Centrul Vechi
DESCRIPTION:Teatrul Tony Bulandra vă așteaptă, miercuri 5 iunie, de la orele 19:oo, în zona Centrul Vechi din Târgoviște, pentru a urmări – Fiecare Duine -  ?\n\no producție marca: PASS Edinburgh College, Scoția pentru: BABEL FAST\n\nregia artistică: Rhona O’Donnell / Amie Huckstep / Stacyanne Smith / Bronte Mellors /  Jazmin Gilham / Rachel Heller / Zazu Klebba / Joel Anderson\n\nmuzica: Joel Anderson\n\ncostume: Rhona O’Donnell / Amie Huckstep / Stacyanne Smith / Bronte Mellors /  Jazmin Gilham / Rachel Heller / Zazu Klebba / Joel Anderson\n\nîn distribuție: Rhona O’Donnell | Amie Huckstep | Stacyanne Smith | Bronte Mellors |  Jazmin Gilham |  Rachel Heller | Zazu Klebba | Joel Anderson\n\n  ? Teatru Non-verbal ?\n\n  „Fiecare om” este un spectacol de teatru fizic care explorează piesa moralizatoare „Everyman”. Interpreții au cercetat temele și problemele din spatele unor mari constante ca religia, moartea și viața, pentru a crea o piesă frumoasă care va îndemna spectatorii să mediteze asupra cum și de ce trăim. Fiecare membru al distribuției a primit o trăsătură: frumusețea, puterea, prietenia, onestitatea, cunoștința, inteligența, faptele bune și moartea, în timp ce toți joacă rolul principal de „Everyman”. Această abordare este pentru a transmite ideea că toți suntem unul și că drumul vieții spre moarte este același pentru toți. Ne pierdem frumusețea, puterea etc., singurul lucru pe care îl luăm cu noi fiind faptele noastre bune și modul în care ne-am trăit viețile. Prima jumătate a spectacolului înfățișază călătoria, iar a doua jumătate va arăta partea mai întunecată,cea dinspre moarte.\n\n  Performing Arts Studio Scoția sau PASS, este o companie de teatru cu sediul în cadrul Colegiului Edinburgh din Scoția. Compania produce spectacole de înaltă calitate în care joacă studenții din anii de studiu HN1 și HN2. Acestea variază de la producții bazate pe text la spectacole de dans și de teatru concept. Membrilor companiei le place să exploreze toate aspectele legate de teatru și doresc să-i inspire pe elevi să progreseze în viitor.\n\n\n  ‼ Accesul este GRATUIT!!! ‼\n

X-ALT-DESC;FMTTYPE=text/html:<!DOCTYPE HTML PUBLIC "-//W3C//DTD HTML 3.2//EN">\n<HTML>\n<HEAD>\n<META NAME="Generator" CONTENT="MS Exchange Server version 08.00.0681.000">\n<TITLE></TITLE>\n</HEAD>\n<BODY>\n<!-- Converted from text/rtf format -->\n\nTeatrul Tony Bulandra vă așteaptă, miercuri 5 iunie, de la orele 19:oo, în zona Centrul Vechi din Târgoviște, pentru a urmări – Fiecare Duine -  ?<br /><br />o producție marca: PASS Edinburgh College, Scoția pentru: BABEL FAST<br /><br />regia artistică: Rhona O’Donnell / Amie Huckstep / Stacyanne Smith / Bronte Mellors /  Jazmin Gilham / Rachel Heller / Zazu Klebba / Joel Anderson<br /><br />muzica: Joel Anderson<br /><br />costume: Rhona O’Donnell / Amie Huckstep / Stacyanne Smith / Bronte Mellors /  Jazmin Gilham / Rachel Heller / Zazu Klebba / Joel Anderson<br /><br />în distribuție: Rhona O’Donnell | Amie Huckstep | Stacyanne Smith | Bronte Mellors |  Jazmin Gilham |  Rachel Heller | Zazu Klebba | Joel Anderson<br /><br />  ? Teatru Non-verbal ?<br /><br />  „Fiecare om” este un spectacol de teatru fizic care explorează piesa moralizatoare „Everyman”. Interpreții au cercetat temele și problemele din spatele unor mari constante ca religia, moartea și viața, pentru a crea o piesă frumoasă care va îndemna spectatorii să mediteze asupra cum și de ce trăim. Fiecare membru al distribuției a primit o trăsătură: frumusețea, puterea, prietenia, onestitatea, cunoștința, inteligența, faptele bune și moartea, în timp ce toți joacă rolul principal de „Everyman”. Această abordare este pentru a transmite ideea că toți suntem unul și că drumul vieții spre moarte este același pentru toți. Ne pierdem frumusețea, puterea etc., singurul lucru pe care îl luăm cu noi fiind faptele noastre bune și modul în care ne-am trăit viețile. Prima jumătate a spectacolului înfățișază călătoria, iar a doua jumătate va arăta partea mai întunecată,cea dinspre moarte.<br /><br />  Performing Arts Studio Scoția sau PASS, este o companie de teatru cu sediul în cadrul Colegiului Edinburgh din Scoția. Compania produce spectacole de înaltă calitate în care joacă studenții din anii de studiu HN1 și HN2. Acestea variază de la producții bazate pe text la spectacole de dans și de teatru concept. Membrilor companiei le place să exploreze toate aspectele legate de teatru și doresc să-i inspire pe elevi să progreseze în viitor.<br /><br /><br />  ‼ Accesul este GRATUIT!!! ‼<br />\n\n</BODY>\n</HTML>

LOCATION:Târgoviște, România
END:VEVENT

END:VCALENDAR
