BEGIN:VCALENDAR
VERSION:2.0
PRODID:-//hacksw/handcal//NONSGML v1.0//EN
BEGIN:VEVENT
UID:72576045b9065ccaff0a7167506ef2fa
DTSTAMP:20260426T011718Z

DTSTART:20181213T160000
DTEND:20181216T160000
SUMMARY:Geminide 2018
DESCRIPTION:SARM organizează campania GEMINIDE 2018 de observare a celui mai spectaculos curent de meteori al anului.\nÎn acest scop am închiriat cabana Runcu Stone pentru 3 nopți, în intervalul 13-16 decembrie 2018 (joi-duminică). Zona este ideală pentru acest fel de activitate, cerul este bun, peisajul spectaculos, iar condițiile excelente. Maximum de activitate este așteptat în nopțile de 13/14 și 14/15 decembrie când, dacă cerul este senin, se pot observa peste 300-400 de meteori pe noapte.\nSunt disponibile 22 de locuri în camere duble, cu baie în fiecare cameră. La cerere, se poate oferi și cazare în cameră triplă.\nDacă se constituie grupul, se poate oferi și masa.\nPreț:\nCazare, 3 nopți = 135 lei/pers.\nMasă, 2 zile (3 mese/zi), vineri și sâmbătă = 130 lei\n\nRezervările se fac în ordinea înscrierilor, la adresa\nsarm.ro@gmail.com prin completarea formularului de înscriere (va fi primit prin e-mail la solicitare) și plata unui avans de minimum 100 lei/pers.\nTel: 0722 829 034

X-ALT-DESC;FMTTYPE=text/html:<!DOCTYPE HTML PUBLIC "-//W3C//DTD HTML 3.2//EN">\n<HTML>\n<HEAD>\n<META NAME="Generator" CONTENT="MS Exchange Server version 08.00.0681.000">\n<TITLE></TITLE>\n</HEAD>\n<BODY>\n<!-- Converted from text/rtf format -->\n\nSARM organizează campania GEMINIDE 2018 de observare a celui mai spectaculos curent de meteori al anului.<br />În acest scop am închiriat cabana Runcu Stone pentru 3 nopți, în intervalul 13-16 decembrie 2018 (joi-duminică). Zona este ideală pentru acest fel de activitate, cerul este bun, peisajul spectaculos, iar condițiile excelente. Maximum de activitate este așteptat în nopțile de 13/14 și 14/15 decembrie când, dacă cerul este senin, se pot observa peste 300-400 de meteori pe noapte.<br />Sunt disponibile 22 de locuri în camere duble, cu baie în fiecare cameră. La cerere, se poate oferi și cazare în cameră triplă.<br />Dacă se constituie grupul, se poate oferi și masa.<br />Preț:<br />Cazare, 3 nopți = 135 lei/pers.<br />Masă, 2 zile (3 mese/zi), vineri și sâmbătă = 130 lei<br /><br />Rezervările se fac în ordinea înscrierilor, la adresa<br />sarm.ro@gmail.com prin completarea formularului de înscriere (va fi primit prin e-mail la solicitare) și plata unui avans de minimum 100 lei/pers.<br />Tel: 0722 829 034\n\n</BODY>\n</HTML>

LOCATION:Târgoviște, România
END:VEVENT

END:VCALENDAR
