BEGIN:VCALENDAR
VERSION:2.0
PRODID:-//hacksw/handcal//NONSGML v1.0//EN
BEGIN:VEVENT
UID:f14820b81d8bccaf4eaf164817807db3
DTSTAMP:20260426T012030Z

DTSTART:20190908T210000
DTEND:20190908T230000
SUMMARY:Goran Bregovic @Zilele Orasului 2019
DESCRIPTION:21:00 – Concert extraordinar – susținut de Goran Bregovic & Wedding and Funeral Band– Locație: Parcul Chindia (zona ruine) 

X-ALT-DESC;FMTTYPE=text/html:<!DOCTYPE HTML PUBLIC "-//W3C//DTD HTML 3.2//EN">\n<HTML>\n<HEAD>\n<META NAME="Generator" CONTENT="MS Exchange Server version 08.00.0681.000">\n<TITLE></TITLE>\n</HEAD>\n<BODY>\n<!-- Converted from text/rtf format -->\n\n21:00 – Concert extraordinar – susținut de Goran Bregovic & Wedding and Funeral Band– Locație: Parcul Chindia (zona ruine) \n\n</BODY>\n</HTML>

LOCATION:Parcul Chindia, Calea Domnească, Târgoviște, România
END:VEVENT

END:VCALENDAR
