BEGIN:VCALENDAR
VERSION:2.0
PRODID:-//hacksw/handcal//NONSGML v1.0//EN
BEGIN:VEVENT
UID:545ab7c96d326c3e6d3046afbbb7ff7a
DTSTAMP:20260426T011751Z

DTSTART:20190621T000000
DTEND:20190623T235959
SUMMARY:Haidook Summer Fest IV @Bredu
DESCRIPTION:Dragi haidooci,  \n  \nE timpul să ne petrecem, din nou, la cea de-a patra ediție a Haidook Summer Fest! Trece în calendar zilele de 21, 22 și 23 iunie 2019 și pregătește-te de sărbătorit! \n  \nLocația a rămas aceeași: Vârf la În, Sat Brebu, Comuna Runcu, județ Dâmbovița. \n  \nÎn spiritul cu care te-ai obișnuit de 3 ani încoace, și anul acesta vom avea parte de multe surprize și activități în natură cu și despre cai, momente de dresură cu cai, demonstrații de talent în arta călăriei, competiții ecvestre și nu numai.  \n  \nPentru moment îți putem spune că Miron Bococi sau “Vrăjitorul de cai” va fi pentru al patrulea an la rând alături de noi și ne va încânta cu talentul său. \n  \nProgramul detaliat pe zile:\n\nPrima zi a evenimentului Haidook Summer Fest, 21 iunie 2019, va fi dedicată pasionaților și practicanților de călărie care își vor demonstra abilitătile în prima etapă a concursului de Working Equitation - o disciplină ecvestră care începe să câștige o popularitate din ce în ce mai mare în rândul copiilor pasionați de călărie din România.  Această primă zi a concursului se va axa pe disciplina dresajului. În plus, cei prezenți vor asista la o serie de antrenamente ale artiștilor care vor performa în arenă în zilele de sambătă și duminică – amintim aici: Miron Bococi, Denis Ștefan, Școala Bate Șaua. \n  \nZilele de weekend, 22 și 23 iunie 2019, sunt zilele principale ale festivalului când îi vom vedea pe maeștrii momentului în acțiune: Miron Bococi și Denis Ștefan. Ei ne vor delecta cu eleganța dansului ecvestru, cu elemente de dresaj natural, artistic și western și în același timp ne vor ține cu sufletul la gură cu acrobații și cascadorii călare marca Masters of Djighit.  Spectatorii vor descoperi astfel această disciplina, Djighit-ul - acrobații ecvestre inspirate din tehnica mongolă de călărie, păstrate de pe vremea lui Genghis Khan.\n\nIar aici avem o surpriză în plus: caii blonzi din rasa Haflinger numiți și “blondele de la Potcoava” pregătesc un spectacol inedit de agilitate și acrobații ecvestre. \n\nȘcoala Bate Șaua va intra în scenă cu demonstrații de Voltije, gimnastică pe spinarea calului aflat în mișcare la lonjă, iar în dimineața zilei de duminică Orban Barra Gabor ne va încânta cu un spectacol de cascadorii pe bicicletă plin de adrenalină, care ne va ține cu sufletul la gură. \n  \nConcursul de Working Equitation va continua cu ultimele 2 probe pe parcursul zilelor de weekend, ziua de duminică marcând finalul competiției și premierea participanților. \n  \nÎn fiecare zi a festivalului vom avea parte de lenevit pe baloți de paie, ateliere pentru copii – iar aici enumerăm pictură pe ceramică, pictură pe lemn, atelier de olărit, atelier de lasou, atelier de slow biking și jaloane, atelier de inițiere în știința și tehnica pedalatului, jocuri și concursuri de treasure hunt și multe altele.. Bineînțeles, nu vor lipsi nici ceaunele cu mâncare aburindă și băuturile reci. \n\nFestivalul este dedicat atât iubitorilor de cai și biciclete, familiilor cu copii cât și tuturor celor aflați în căutare de activități în natură.  Te așteptăm să petrecem împreună primul weekend prelungit din vacanța de vară.\n  \nPe scurt, va fi un week-end pe cinste, numai bun pentru încărcarea bateriilor!  \n  \nNoutăți în timp real despre eveniment vei găsi pe pagina noastră de Facebook, în cadrul acestui eveniment și urmărind hastagul #HaidookSummerFest\n  \nTe așteptăm să petreci alături de noi! 

X-ALT-DESC;FMTTYPE=text/html:<!DOCTYPE HTML PUBLIC "-//W3C//DTD HTML 3.2//EN">\n<HTML>\n<HEAD>\n<META NAME="Generator" CONTENT="MS Exchange Server version 08.00.0681.000">\n<TITLE></TITLE>\n</HEAD>\n<BODY>\n<!-- Converted from text/rtf format -->\n\nDragi haidooci,  <br />  <br />E timpul să ne petrecem, din nou, la cea de-a patra ediție a Haidook Summer Fest! Trece în calendar zilele de 21, 22 și 23 iunie 2019 și pregătește-te de sărbătorit! <br />  <br />Locația a rămas aceeași: Vârf la În, Sat Brebu, Comuna Runcu, județ Dâmbovița. <br />  <br />În spiritul cu care te-ai obișnuit de 3 ani încoace, și anul acesta vom avea parte de multe surprize și activități în natură cu și despre cai, momente de dresură cu cai, demonstrații de talent în arta călăriei, competiții ecvestre și nu numai.  <br />  <br />Pentru moment îți putem spune că Miron Bococi sau “Vrăjitorul de cai” va fi pentru al patrulea an la rând alături de noi și ne va încânta cu talentul său. <br />  <br />Programul detaliat pe zile:<br /><br />Prima zi a evenimentului Haidook Summer Fest, 21 iunie 2019, va fi dedicată pasionaților și practicanților de călărie care își vor demonstra abilitătile în prima etapă a concursului de Working Equitation - o disciplină ecvestră care începe să câștige o popularitate din ce în ce mai mare în rândul copiilor pasionați de călărie din România.  Această primă zi a concursului se va axa pe disciplina dresajului. În plus, cei prezenți vor asista la o serie de antrenamente ale artiștilor care vor performa în arenă în zilele de sambătă și duminică – amintim aici: Miron Bococi, Denis Ștefan, Școala Bate Șaua. <br />  <br />Zilele de weekend, 22 și 23 iunie 2019, sunt zilele principale ale festivalului când îi vom vedea pe maeștrii momentului în acțiune: Miron Bococi și Denis Ștefan. Ei ne vor delecta cu eleganța dansului ecvestru, cu elemente de dresaj natural, artistic și western și în același timp ne vor ține cu sufletul la gură cu acrobații și cascadorii călare marca Masters of Djighit.  Spectatorii vor descoperi astfel această disciplina, Djighit-ul - acrobații ecvestre inspirate din tehnica mongolă de călărie, păstrate de pe vremea lui Genghis Khan.<br /><br />Iar aici avem o surpriză în plus: caii blonzi din rasa Haflinger numiți și “blondele de la Potcoava” pregătesc un spectacol inedit de agilitate și acrobații ecvestre. <br /><br />Școala Bate Șaua va intra în scenă cu demonstrații de Voltije, gimnastică pe spinarea calului aflat în mișcare la lonjă, iar în dimineața zilei de duminică Orban Barra Gabor ne va încânta cu un spectacol de cascadorii pe bicicletă plin de adrenalină, care ne va ține cu sufletul la gură. <br />  <br />Concursul de Working Equitation va continua cu ultimele 2 probe pe parcursul zilelor de weekend, ziua de duminică marcând finalul competiției și premierea participanților. <br />  <br />În fiecare zi a festivalului vom avea parte de lenevit pe baloți de paie, ateliere pentru copii – iar aici enumerăm pictură pe ceramică, pictură pe lemn, atelier de olărit, atelier de lasou, atelier de slow biking și jaloane, atelier de inițiere în știința și tehnica pedalatului, jocuri și concursuri de treasure hunt și multe altele.. Bineînțeles, nu vor lipsi nici ceaunele cu mâncare aburindă și băuturile reci. <br /><br />Festivalul este dedicat atât iubitorilor de cai și biciclete, familiilor cu copii cât și tuturor celor aflați în căutare de activități în natură.  Te așteptăm să petrecem împreună primul weekend prelungit din vacanța de vară.<br />  <br />Pe scurt, va fi un week-end pe cinste, numai bun pentru încărcarea bateriilor!  <br />  <br />Noutăți în timp real despre eveniment vei găsi pe pagina noastră de Facebook, în cadrul acestui eveniment și urmărind hastagul #HaidookSummerFest<br />  <br />Te așteptăm să petreci alături de noi! \n\n</BODY>\n</HTML>

LOCATION:Comuna Brebu 107100, România
END:VEVENT

END:VCALENDAR
