BEGIN:VCALENDAR
VERSION:2.0
PRODID:-//hacksw/handcal//NONSGML v1.0//EN
BEGIN:VEVENT
UID:0cd1fce574da10c6549092c04b652ec5
DTSTAMP:20260425T235740Z

DTSTART:20190604T180000
DTEND:20190604T200000
SUMMARY:În Tranzit @Sala Mare Teatru
DESCRIPTION:„În Tranzit”, în regia lui Aditi Venkateshwaran, este un spectacol teatral de dans non-verbal care examinează reprezentarea mişcării sistemice şi subiective în perspectiva culturală contemporană  a corpurilor în mers, pe străzile din India. Spectacolul studiază intensitatea mişcărilor şi momentelor pe care le trăim pe stradă. Prin el se simte fizicul în tonuri puternice sau joase, o continuă căutare şi descoperire, tot ceea ce vedem în jurul nostru și nu putem uita, purtându-le în continuare în suflet.

X-ALT-DESC;FMTTYPE=text/html:<!DOCTYPE HTML PUBLIC "-//W3C//DTD HTML 3.2//EN">\n<HTML>\n<HEAD>\n<META NAME="Generator" CONTENT="MS Exchange Server version 08.00.0681.000">\n<TITLE></TITLE>\n</HEAD>\n<BODY>\n<!-- Converted from text/rtf format -->\n\n„În Tranzit”, în regia lui Aditi Venkateshwaran, este un spectacol teatral de dans non-verbal care examinează reprezentarea mişcării sistemice şi subiective în perspectiva culturală contemporană  a corpurilor în mers, pe străzile din India. Spectacolul studiază intensitatea mişcărilor şi momentelor pe care le trăim pe stradă. Prin el se simte fizicul în tonuri puternice sau joase, o continuă căutare şi descoperire, tot ceea ce vedem în jurul nostru și nu putem uita, purtându-le în continuare în suflet.\n\n</BODY>\n</HTML>

LOCATION:Bulevardul Regele Carol I nr. 43, Târgoviște, România
END:VEVENT

END:VCALENDAR
