BEGIN:VCALENDAR
VERSION:2.0
PRODID:-//hacksw/handcal//NONSGML v1.0//EN
BEGIN:VEVENT
UID:87709004890ec702fbbe33bd2d4b611d
DTSTAMP:20260425T235654Z

DTSTART:20190604T193000
DTEND:20190604T203000
SUMMARY:JULIUS CAESAR @Casa Sindicatelor
DESCRIPTION:Conspiratorii îl conving pe prietenul lui Cezar, Brutus, să se alăture complotului lor de asasinat. Pentru a-l împiedica pe Cezar să câștige prea multă putere, Brutus și conspiratorii îl ucid în timpul Idelor lui Marte. Marc Antoniu luptă împotriva conspiratorilor și îi izgonește din Roma. Brutus și prietenul său, Cassius, pierd și se sinucid, lăsând pe Antoniu să guverneze Roma. Veți vedea această piesă într-o lectură modernă, unde aceleași evenimente se reflectă în realitatea politică pe care o trăim astăzi. Mesajul nostru este să nu participați niciodată la o conspirație, deoarece veți fi victima partenerilor voștri.

X-ALT-DESC;FMTTYPE=text/html:<!DOCTYPE HTML PUBLIC "-//W3C//DTD HTML 3.2//EN">\n<HTML>\n<HEAD>\n<META NAME="Generator" CONTENT="MS Exchange Server version 08.00.0681.000">\n<TITLE></TITLE>\n</HEAD>\n<BODY>\n<!-- Converted from text/rtf format -->\n\nConspiratorii îl conving pe prietenul lui Cezar, Brutus, să se alăture complotului lor de asasinat. Pentru a-l împiedica pe Cezar să câștige prea multă putere, Brutus și conspiratorii îl ucid în timpul Idelor lui Marte. Marc Antoniu luptă împotriva conspiratorilor și îi izgonește din Roma. Brutus și prietenul său, Cassius, pierd și se sinucid, lăsând pe Antoniu să guverneze Roma. Veți vedea această piesă într-o lectură modernă, unde aceleași evenimente se reflectă în realitatea politică pe care o trăim astăzi. Mesajul nostru este să nu participați niciodată la o conspirație, deoarece veți fi victima partenerilor voștri.\n\n</BODY>\n</HTML>

LOCATION:Bulevardul Regele Carol I nr. 43, Târgoviște, România
END:VEVENT

END:VCALENDAR
