BEGIN:VCALENDAR
VERSION:2.0
PRODID:-//hacksw/handcal//NONSGML v1.0//EN
BEGIN:VEVENT
UID:8852cabfff9fe5f9d340f9a27b48a9f7
DTSTAMP:20260426T000019Z

DTSTART:20171209T090000
DTEND:20171210T160000
SUMMARY:Meda Park Winter Cup 2017
DESCRIPTION:Turneu interrnațional FIBA3x3.
Baschet 3x3, competiție Slam Dunk, baschet în fotoliu rulant, Freestyle Show, Music.
Premii totale de peste 20000 lei.

Jucători de top din baschetul 3x3 vor face spectacol la Târgoviște pe 9 și 10 decembrie. Să cunoaștem câțiva:
- Robert Foster - Los Angeles, Statele Unite - locul 18 în topul jucătorilor din Statele Unite.
- Jordan Coakley - Nassau, Bahamas - locul 1 în topul jucătorilor din Bahamas.
- Nebojsa Kilijan - Ohrid, Macedonia - locul 1 în topul jucătorilor din Macedonia.
- Nikola Vujovic - Cacak, Serbia - locul 24 în topul jucătorilor din Serbia.
- Vaso Aleksic - Bar, Muntenegru - locul 1 în topul jucătorilor din Muntenegru.
- Petar Perunovic - Vrbas, Serbia - locul 33 în topul jucătorilor din Serbia.
- Stoil Aladzhov - Burgas, Bulgaria - locul 6 în topul național din Bulgaria.
Alături de ei, pentru ca spectacolul să fie complet, vom avea un show de zile mari susținut de Adrew ”A2W” Wilding - cel mai bun freestyler din Marea Britanie și unul din cei mai buni din lume, deținător de recorduri Guiness, actor și un OM minunat.
MC-ul unui astfel de eveniment nu putea să fie altul...doamnelor și domnilor...Cosmin Petrescu.
http://beyou.ml/ro/mpwc2017/
Nici publicul nu este uitat - vom avea concursuri, tombolă, ateliere...dar mai multe o să aflați la sală.
Vă așteptăm!

X-ALT-DESC;FMTTYPE=text/html:<!DOCTYPE HTML PUBLIC "-//W3C//DTD HTML 3.2//EN">\n<HTML>\n<HEAD>\n<META NAME="Generator" CONTENT="MS Exchange Server version 08.00.0681.000">\n<TITLE></TITLE>\n</HEAD>\n<BODY>\n<!-- Converted from text/rtf format -->\n\nTurneu interrnațional FIBA3x3.
Baschet 3x3, competiție Slam Dunk, baschet în fotoliu rulant, Freestyle Show, Music.
Premii totale de peste 20000 lei.

Jucători de top din baschetul 3x3 vor face spectacol la Târgoviște pe 9 și 10 decembrie. Să cunoaștem câțiva:
- Robert Foster - Los Angeles, Statele Unite - locul 18 în topul jucătorilor din Statele Unite.
- Jordan Coakley - Nassau, Bahamas - locul 1 în topul jucătorilor din Bahamas.
- Nebojsa Kilijan - Ohrid, Macedonia - locul 1 în topul jucătorilor din Macedonia.
- Nikola Vujovic - Cacak, Serbia - locul 24 în topul jucătorilor din Serbia.
- Vaso Aleksic - Bar, Muntenegru - locul 1 în topul jucătorilor din Muntenegru.
- Petar Perunovic - Vrbas, Serbia - locul 33 în topul jucătorilor din Serbia.
- Stoil Aladzhov - Burgas, Bulgaria - locul 6 în topul național din Bulgaria.
Alături de ei, pentru ca spectacolul să fie complet, vom avea un show de zile mari susținut de Adrew ”A2W” Wilding - cel mai bun freestyler din Marea Britanie și unul din cei mai buni din lume, deținător de recorduri Guiness, actor și un OM minunat.
MC-ul unui astfel de eveniment nu putea să fie altul...doamnelor și domnilor...Cosmin Petrescu.
http://beyou.ml/ro/mpwc2017/
Nici publicul nu este uitat - vom avea concursuri, tombolă, ateliere...dar mai multe o să aflați la sală.
Vă așteptăm!\n\n</BODY>\n</HTML>

LOCATION:
END:VEVENT

END:VCALENDAR
