BEGIN:VCALENDAR
VERSION:2.0
PRODID:-//hacksw/handcal//NONSGML v1.0//EN
BEGIN:VEVENT
UID:8869a515ad8118f240eb8826ae2fb4ae
DTSTAMP:20260426T000116Z

DTSTART:20170909T100000
DTEND:20171115T103000
SUMMARY:Mihai Şerbănescu - Retrospectivă
DESCRIPTION:Retrospectiva de pictura,desen si grafica a artistului targovistean, Mihai Serbanescu

X-ALT-DESC;FMTTYPE=text/html:<!DOCTYPE HTML PUBLIC "-//W3C//DTD HTML 3.2//EN">\n<HTML>\n<HEAD>\n<META NAME="Generator" CONTENT="MS Exchange Server version 08.00.0681.000">\n<TITLE></TITLE>\n</HEAD>\n<BODY>\n<!-- Converted from text/rtf format -->\n\nRetrospectiva de pictura,desen si grafica a artistului targovistean, Mihai Serbanescu\n\n</BODY>\n</HTML>

LOCATION:
END:VEVENT

END:VCALENDAR
