BEGIN:VCALENDAR
VERSION:2.0
PRODID:-//hacksw/handcal//NONSGML v1.0//EN
BEGIN:VEVENT
UID:2ebe8b4d63d2927fe743aae2797a099b
DTSTAMP:20260425T235948Z

DTSTART:20190502T160000
DTEND:20190505T163000
SUMMARY:Minivacanță la stele
DESCRIPTION:Dacă tot a venit primăvara, e vacanță, iar cerul nopții este ideal de observat, Societatea Astronomică Română de Meteori continuă organizarea de evenimente din seria „astronomia de la firul ierbii” și vă invită să petreceți la stele ultimele zile ale vacanței de primăvară.
Minitabăra de astronomie se va desfășura în județul Dâmbovița, la Runcu Stone, un loc ideal de observat cerul, în mijlocul naturii, unde efectele poluării luminoase nu afectează puternic calitatea cerului de noapte.
Pot participa copii și tineri pasionați de astronomie, natură și cunoaștere.
Se vor organiza sesiuni teoretice și practice de învățare a constelațiilor, folosirea hărții cerești, orientarea pe boltă, aflarea punctelor cardinale, mișcarea bolții cerești și a obiectelor cosmice, observarea trecerii Stației Spațiale Internaționale și a sateliților artificiali, observații prin telescop (Soare, planetele Jupiter, Saturn și Venus, roiuri de stele, nebuloase și galaxii). Se vor organiza drumeții pentru observarea florei și faunei foarte bogate din zonă (identificarea plantelor medicinale, a speciilor de arbori, insecte și păsări).
Cost tabără: 450 lei. Se asigură cazare în camere cu 2 și 3 camere cu baie în cameră, masă (3 mese pe zi), transport din Târgoviște la locul de desfășurare și retur, materiale și echipamente specifice.
Locuri disponibile: 24, în ordinea înscrierii
Înscrierea se face prin completarea formularului de participare și achitarea unui avans de minimum 150 lei.
Pot participa și părinți însoțitori care vor achita integral costul taberei.
Infamații
Telefon: 0722 829 034
E-mail: sarm.ro@gmail.com (cu subiectul „vacanta la stele”)

X-ALT-DESC;FMTTYPE=text/html:<!DOCTYPE HTML PUBLIC "-//W3C//DTD HTML 3.2//EN">\n<HTML>\n<HEAD>\n<META NAME="Generator" CONTENT="MS Exchange Server version 08.00.0681.000">\n<TITLE></TITLE>\n</HEAD>\n<BODY>\n<!-- Converted from text/rtf format -->\n\nDacă tot a venit primăvara, e vacanță, iar cerul nopții este ideal de observat, Societatea Astronomică Română de Meteori continuă organizarea de evenimente din seria „astronomia de la firul ierbii” și vă invită să petreceți la stele ultimele zile ale vacanței de primăvară.
Minitabăra de astronomie se va desfășura în județul Dâmbovița, la Runcu Stone, un loc ideal de observat cerul, în mijlocul naturii, unde efectele poluării luminoase nu afectează puternic calitatea cerului de noapte.
Pot participa copii și tineri pasionați de astronomie, natură și cunoaștere.
Se vor organiza sesiuni teoretice și practice de învățare a constelațiilor, folosirea hărții cerești, orientarea pe boltă, aflarea punctelor cardinale, mișcarea bolții cerești și a obiectelor cosmice, observarea trecerii Stației Spațiale Internaționale și a sateliților artificiali, observații prin telescop (Soare, planetele Jupiter, Saturn și Venus, roiuri de stele, nebuloase și galaxii). Se vor organiza drumeții pentru observarea florei și faunei foarte bogate din zonă (identificarea plantelor medicinale, a speciilor de arbori, insecte și păsări).
Cost tabără: 450 lei. Se asigură cazare în camere cu 2 și 3 camere cu baie în cameră, masă (3 mese pe zi), transport din Târgoviște la locul de desfășurare și retur, materiale și echipamente specifice.
Locuri disponibile: 24, în ordinea înscrierii
Înscrierea se face prin completarea formularului de participare și achitarea unui avans de minimum 150 lei.
Pot participa și părinți însoțitori care vor achita integral costul taberei.
Infamații
Telefon: 0722 829 034
E-mail: sarm.ro@gmail.com (cu subiectul „vacanta la stele”)\n\n</BODY>\n</HTML>

LOCATION:
END:VEVENT

END:VCALENDAR
