BEGIN:VCALENDAR
VERSION:2.0
PRODID:-//hacksw/handcal//NONSGML v1.0//EN
BEGIN:VEVENT
UID:99fe5e53d5d18a123c25a892d621afd2
DTSTAMP:20260426T000125Z

DTSTART:20191213T193000
DTEND:20191216T193000
SUMMARY:Moș Crăciun sosește în oraș
DESCRIPTION: În data de 13 decembrie, Moș Crăciun sosește în oraș. Alaiul lui va\nstrăbate Târgoviștea de la Teatrul „Tony Bulandra” până în Piața Mihai\nViteazu. Ora plecării - 17:30. Ora sosirii - 18:00. Moșul este foarte\nbine organizat, altfel nu ar putea să împartă un număr impresionant de\ncadouri în doar trei zile: 13 decembrie (începând cu ora 18:00), 15 și\n16 decembrie (începând cu ora 17:00). Înarmați-vă cu poezioare, dar și\ncu răbdare... Moș Crăciun are un dar pentru fiecare!\n\n    Întreg evenimentul „Vine-Vine Moș Crăciun” este organizat de\nConsiliul Local și Primăria Municipiului Târgoviște prin Teatrul „Tony\nBulandra”.\n    Accesul publicului la toate evenimentele este gratuit.

X-ALT-DESC;FMTTYPE=text/html:<!DOCTYPE HTML PUBLIC "-//W3C//DTD HTML 3.2//EN">\n<HTML>\n<HEAD>\n<META NAME="Generator" CONTENT="MS Exchange Server version 08.00.0681.000">\n<TITLE></TITLE>\n</HEAD>\n<BODY>\n<!-- Converted from text/rtf format -->\n\n În data de 13 decembrie, Moș Crăciun sosește în oraș. Alaiul lui va<br />străbate Târgoviștea de la Teatrul „Tony Bulandra” până în Piața Mihai<br />Viteazu. Ora plecării - 17:30. Ora sosirii - 18:00. Moșul este foarte<br />bine organizat, altfel nu ar putea să împartă un număr impresionant de<br />cadouri în doar trei zile: 13 decembrie (începând cu ora 18:00), 15 și<br />16 decembrie (începând cu ora 17:00). Înarmați-vă cu poezioare, dar și<br />cu răbdare... Moș Crăciun are un dar pentru fiecare!<br /><br />    Întreg evenimentul „Vine-Vine Moș Crăciun” este organizat de<br />Consiliul Local și Primăria Municipiului Târgoviște prin Teatrul „Tony<br />Bulandra”.<br />    Accesul publicului la toate evenimentele este gratuit.\n\n</BODY>\n</HTML>

LOCATION:Târgoviște, România
END:VEVENT

END:VCALENDAR
