BEGIN:VCALENDAR
VERSION:2.0
PRODID:-//hacksw/handcal//NONSGML v1.0//EN
BEGIN:VEVENT
UID:5a74171ba908dd3b0d7feb39a4e44fc3
DTSTAMP:20260426T011902Z

DTSTART:20190607T213000
DTEND:20190607T223000
SUMMARY:Foc și Muzică Live Handpan
DESCRIPTION:Handpan România este primul proiect muzical românesc care îmbină misticismul handpanului cu arta jonglării focului și cu vibrațiile percuției. Este o fuziune explozivă de ritmuri africane, armonie handpan și spectacol cu foc. Handpanul este mănuit de Artur Pasecinic care este într-o continuă explorare a instrumentului, căutând să îl integreze în cât mai multe stiluri muzicale. Percuția este întreținută de către Daniel Neculai prin cajonul cubanez și djembele African, iar spectacolul cu foc este prezentat de Ștefan Ecliserescu, (poiuri) și Marius Roșca (spinning și contact). Împreună aceștia crează un spectacol unicat care stimulează simțurile.

X-ALT-DESC;FMTTYPE=text/html:<!DOCTYPE HTML PUBLIC "-//W3C//DTD HTML 3.2//EN">\n<HTML>\n<HEAD>\n<META NAME="Generator" CONTENT="MS Exchange Server version 08.00.0681.000">\n<TITLE></TITLE>\n</HEAD>\n<BODY>\n<!-- Converted from text/rtf format -->\n\nHandpan România este primul proiect muzical românesc care îmbină misticismul handpanului cu arta jonglării focului și cu vibrațiile percuției. Este o fuziune explozivă de ritmuri africane, armonie handpan și spectacol cu foc. Handpanul este mănuit de Artur Pasecinic care este într-o continuă explorare a instrumentului, căutând să îl integreze în cât mai multe stiluri muzicale. Percuția este întreținută de către Daniel Neculai prin cajonul cubanez și djembele African, iar spectacolul cu foc este prezentat de Ștefan Ecliserescu, (poiuri) și Marius Roșca (spinning și contact). Împreună aceștia crează un spectacol unicat care stimulează simțurile.\n\n</BODY>\n</HTML>

LOCATION:Târgoviște, România
END:VEVENT

END:VCALENDAR
