BEGIN:VCALENDAR
VERSION:2.0
PRODID:-//hacksw/handcal//NONSGML v1.0//EN
BEGIN:VEVENT
UID:86092a6b60d931d3f3a53f9b2b2bc4cb
DTSTAMP:20260425T235822Z

DTSTART:20191010T183000
DTEND:20191010T213000
SUMMARY:Nabucco de Giuseppe Verdi @Opera Nationala
DESCRIPTION:Regia: Hero Lupescu\nScenografia: George Doroşenco\nCoregrafia: Doina Andronache\nMaestru de cor: Daniel Jinga\nMaestru de balet soliști: Alin Gheorghiu\nMaestru de balet ansamblu: Mădălina Slăteanu\nAsistent de regie: Cristina Cotescu\n\nDirijor: Mihnea Ignat – invitat\n\nNabucco: Ștefan Ignat\nAbigaille: Dragana Radakovic – invitată\nFenena: Florentina Soare\nIsmaele: Paul Lungu\nZaccaria: Dragoljub Bajic – invitat\nMarele Preot: Filip Panait\nAbdallo: Andrei Lazăr\nAnna: Stanca Maria Manoleanu\n\nSolişti balet: TBA\n\nCu participarea Orchestrei, Corului și Ansamblului de Balet al Operei Naționale București\n\n* Instituția își rezervă dreptul de a aduce modificări în distribuțiile spectacolelor în cazul în care situația le impune.

X-ALT-DESC;FMTTYPE=text/html:<!DOCTYPE HTML PUBLIC "-//W3C//DTD HTML 3.2//EN">\n<HTML>\n<HEAD>\n<META NAME="Generator" CONTENT="MS Exchange Server version 08.00.0681.000">\n<TITLE></TITLE>\n</HEAD>\n<BODY>\n<!-- Converted from text/rtf format -->\n\nRegia: Hero Lupescu<br />Scenografia: George Doroşenco<br />Coregrafia: Doina Andronache<br />Maestru de cor: Daniel Jinga<br />Maestru de balet soliști: Alin Gheorghiu<br />Maestru de balet ansamblu: Mădălina Slăteanu<br />Asistent de regie: Cristina Cotescu<br /><br />Dirijor: Mihnea Ignat – invitat<br /><br />Nabucco: Ștefan Ignat<br />Abigaille: Dragana Radakovic – invitată<br />Fenena: Florentina Soare<br />Ismaele: Paul Lungu<br />Zaccaria: Dragoljub Bajic – invitat<br />Marele Preot: Filip Panait<br />Abdallo: Andrei Lazăr<br />Anna: Stanca Maria Manoleanu<br /><br />Solişti balet: TBA<br /><br />Cu participarea Orchestrei, Corului și Ansamblului de Balet al Operei Naționale București<br /><br />* Instituția își rezervă dreptul de a aduce modificări în distribuțiile spectacolelor în cazul în care situația le impune.\n\n</BODY>\n</HTML>

LOCATION:Bulevardul Mihail Kogălniceanu 70-72, București 050104, România
END:VEVENT

END:VCALENDAR
