BEGIN:VCALENDAR
VERSION:2.0
PRODID:-//hacksw/handcal//NONSGML v1.0//EN
BEGIN:VEVENT
UID:527f33d78e5569e77fa18071e8c5d10f
DTSTAMP:20260426T011856Z

DTSTART:20180519T190000
DTEND:20180520T030000
SUMMARY:Noaptea Muzeelor
DESCRIPTION:Noaptea muzeelor va invita sa vizitati gratuit muzeele bucurestene in noaptea dintre 19-20 mai cand programul de functionare al acestora va fi prelungit.

X-ALT-DESC;FMTTYPE=text/html:<!DOCTYPE HTML PUBLIC "-//W3C//DTD HTML 3.2//EN">\n<HTML>\n<HEAD>\n<META NAME="Generator" CONTENT="MS Exchange Server version 08.00.0681.000">\n<TITLE></TITLE>\n</HEAD>\n<BODY>\n<!-- Converted from text/rtf format -->\n\nNoaptea muzeelor va invita sa vizitati gratuit muzeele bucurestene in noaptea dintre 19-20 mai cand programul de functionare al acestora va fi prelungit.\n\n</BODY>\n</HTML>

LOCATION:
END:VEVENT

END:VCALENDAR
