BEGIN:VCALENDAR
VERSION:2.0
PRODID:-//hacksw/handcal//NONSGML v1.0//EN
BEGIN:VEVENT
UID:2c31f39207456067d6d90b8700fc6a17
DTSTAMP:20260425T235905Z

DTSTART:20190605T203000
DTEND:20190605T220000
SUMMARY:NOT A CHILDREN’S GAME @Casa Sindicatelor
DESCRIPTION:Mama rezolvă cuvinte încrucișate, tatăl înjură, oameni virtuali se joacă de-a războiul, câinii latră la proprietarii lor, proprietarii își antrenează copiii și copiii interacționează cu colegii lor, încercând să nu joace un joc copilăresc. Aceasta este o caricatură a familiei moderne surprinsă de regizorul Albertas Vidžiūnas și de unul dintre cei mai scandaloși scriitori lituanieni – dramaturgul Herkus Kunčius, a cărui proză se caracterizează prin teme obscene, reprezentări șocante și lipsa de scrupule. Drama socială evidențiază actualitățile Lituaniei moderne și încorporează problemele relațiilor părinte-copil și ale interacțiunii dintre tineri. Spațiul de joc este un bloc de apartamente și locuri de joacă pentru copii. Unii joacă „războiul”, alții „doctorii”, iar ultimii zac beți și, la urma urmei, sub balcon există un cimitir unde lucrurile sunt de neînțeles… Aceste puteri recunoscute și asociative compun întreaga dramaturgie a spectacolului, ridicând semnificația de la nivelul unei singure familii la dimensiunea universală.\n\nSpectacolul articulează subiectele cele mai sensibile ale neînțelegerii, agresivității, manipulării, cruzimii, lipsei de spiritualitate și introduce audiența în teatrul șocant și incomod. „Efecte speciale”, mijloace diferite de exprimare, violență psihologică și fizică adolescentă brutală vor dezvălui înstrăinarea societății. Cina în familie de Paște ar fi o sugestie directă a sacrificiului și a răscumpărării biblice, care va pune pe tuturor spectatorilor o întrebare fără răspuns: „De ce, pentru numele lui Dumnezeu?!”

X-ALT-DESC;FMTTYPE=text/html:<!DOCTYPE HTML PUBLIC "-//W3C//DTD HTML 3.2//EN">\n<HTML>\n<HEAD>\n<META NAME="Generator" CONTENT="MS Exchange Server version 08.00.0681.000">\n<TITLE></TITLE>\n</HEAD>\n<BODY>\n<!-- Converted from text/rtf format -->\n\nMama rezolvă cuvinte încrucișate, tatăl înjură, oameni virtuali se joacă de-a războiul, câinii latră la proprietarii lor, proprietarii își antrenează copiii și copiii interacționează cu colegii lor, încercând să nu joace un joc copilăresc. Aceasta este o caricatură a familiei moderne surprinsă de regizorul Albertas Vidžiūnas și de unul dintre cei mai scandaloși scriitori lituanieni – dramaturgul Herkus Kunčius, a cărui proză se caracterizează prin teme obscene, reprezentări șocante și lipsa de scrupule. Drama socială evidențiază actualitățile Lituaniei moderne și încorporează problemele relațiilor părinte-copil și ale interacțiunii dintre tineri. Spațiul de joc este un bloc de apartamente și locuri de joacă pentru copii. Unii joacă „războiul”, alții „doctorii”, iar ultimii zac beți și, la urma urmei, sub balcon există un cimitir unde lucrurile sunt de neînțeles… Aceste puteri recunoscute și asociative compun întreaga dramaturgie a spectacolului, ridicând semnificația de la nivelul unei singure familii la dimensiunea universală.<br /><br />Spectacolul articulează subiectele cele mai sensibile ale neînțelegerii, agresivității, manipulării, cruzimii, lipsei de spiritualitate și introduce audiența în teatrul șocant și incomod. „Efecte speciale”, mijloace diferite de exprimare, violență psihologică și fizică adolescentă brutală vor dezvălui înstrăinarea societății. Cina în familie de Paște ar fi o sugestie directă a sacrificiului și a răscumpărării biblice, care va pune pe tuturor spectatorilor o întrebare fără răspuns: „De ce, pentru numele lui Dumnezeu?!”\n\n</BODY>\n</HTML>

LOCATION:Strada Grigore Alexandrescu E2, Târgoviște, România
END:VEVENT

END:VCALENDAR
