BEGIN:VCALENDAR
VERSION:2.0
PRODID:-//hacksw/handcal//NONSGML v1.0//EN
BEGIN:VEVENT
UID:77e329a671847b8a72445624a806740a
DTSTAMP:20260426T011754Z

DTSTART:20190605T193000
DTEND:20190605T203000
SUMMARY:OPERATIVI! @Piata Mihai Viteazul
DESCRIPTION:Este vorba despre un German, un American și un Italian. Poate că la început pare o glumă, dar este o poveste adevărată. Trei clovni-soldați, supraviețuitorii războaielor istoriei vin să ridice un monument comemorativ al fiecărui război și să-și amintească câtă prostie a fost de-a lungul istoriei. Printre glume clasice (dar și unele suprinzătoare), neînțelegeri și trădări, să privești cu ochii tăi obișnuiți naivitatea clovnilor și slăbiciunea omului, să râzi de amândouă într-o piesă și să te gândești din nou la ea în drum spre casă, poate în fața televizorului sau când te uiți la știrile de zi cu zi.

X-ALT-DESC;FMTTYPE=text/html:<!DOCTYPE HTML PUBLIC "-//W3C//DTD HTML 3.2//EN">\n<HTML>\n<HEAD>\n<META NAME="Generator" CONTENT="MS Exchange Server version 08.00.0681.000">\n<TITLE></TITLE>\n</HEAD>\n<BODY>\n<!-- Converted from text/rtf format -->\n\nEste vorba despre un German, un American și un Italian. Poate că la început pare o glumă, dar este o poveste adevărată. Trei clovni-soldați, supraviețuitorii războaielor istoriei vin să ridice un monument comemorativ al fiecărui război și să-și amintească câtă prostie a fost de-a lungul istoriei. Printre glume clasice (dar și unele suprinzătoare), neînțelegeri și trădări, să privești cu ochii tăi obișnuiți naivitatea clovnilor și slăbiciunea omului, să râzi de amândouă într-o piesă și să te gândești din nou la ea în drum spre casă, poate în fața televizorului sau când te uiți la știrile de zi cu zi.\n\n</BODY>\n</HTML>

LOCATION:Pta Mihai Viteazu, 1, Târgoviste, Dâmbovita, 130018, Târgoviște, România
END:VEVENT

END:VCALENDAR
