BEGIN:VCALENDAR
VERSION:2.0
PRODID:-//hacksw/handcal//NONSGML v1.0//EN
BEGIN:VEVENT
UID:b2efbd4e867ce5990736be1345056e2f
DTSTAMP:20260425T235651Z

DTSTART:20190118T190000
DTEND:20190118T203000
SUMMARY:Othello @ Tony Bulandra
DESCRIPTION:Othello

X-ALT-DESC;FMTTYPE=text/html:<!DOCTYPE HTML PUBLIC "-//W3C//DTD HTML 3.2//EN">\n<HTML>\n<HEAD>\n<META NAME="Generator" CONTENT="MS Exchange Server version 08.00.0681.000">\n<TITLE></TITLE>\n</HEAD>\n<BODY>\n<!-- Converted from text/rtf format -->\n\nOthello\n\n</BODY>\n</HTML>

LOCATION:
END:VEVENT

END:VCALENDAR
