BEGIN:VCALENDAR
VERSION:2.0
PRODID:-//hacksw/handcal//NONSGML v1.0//EN
BEGIN:VEVENT
UID:7dd098313f4b92d0026fd1b1ad2c59ae
DTSTAMP:20260425T235908Z

DTSTART:20190606T210000
DTEND:20190606T214500
SUMMARY:Pasarea de Foc @Piata Mihai Viteazu
DESCRIPTION:Spectacol de teatru de umbre corporale și de păpuși, creat pe muzica lui Igor Stravinsky, o adaptare liberă a poveștii „Pasărea de foc și Kaschei, magicianul cel rău”. Un spectacol original în care lumina și întunericul se întâlnesc pe ecranul de pânză pentru a da naștere unei lumi fascinante și efemere. Întunericul și răul se cuibăresc uneori în sufletul omului. Binele are însă o armă imbatabilă, de aceea triumfă în toate poveștile: puterea de sacrificiu în numele iubirii față de oameni, față de viață. Regia este semnată Irina Niculescu, muzica: Igor Stravinsky, scenografia: John Lewandowski, voice-over: Sebastian Bălășoiu.\n\nÎn distribuție îi veți putea urmări pe: Ana Maria Cucuta | Cristina Dumitra | Teodora Antal | Mihai Balaceanu |  Cosmin Cosma\n\nPe scurt: Pasărea de Foc este o Pasăre Phoenix, despre care se spune că trăiește mii de ani. Când își simte sfârșitul își face un cuib din plante aromatice și tămâie și îi dă foc, arzând odată cu el. Din cenușa rămasă se naște o altă pasăre de foc. Trilul ei are darul de a-i însănătoși pe cei bolnavi, de a le reda vederea celor orbi. În această poveste, trilul ei îl farmecă pe Ivan și un grăunte de lumină se naște în sufletul său spre a rămâne acolo pentru totdeauna.\n\nIvan și Pasărea de Foc vor spulbera vraja lui Kaschei dictatorul și vor trezi lumea înghețată de Kaschei, iar Ivan își va regăsi părinții. Încă o dată, lumina va alunga întunericul, dragostea și încrederea în viață vor învinge.

X-ALT-DESC;FMTTYPE=text/html:<!DOCTYPE HTML PUBLIC "-//W3C//DTD HTML 3.2//EN">\n<HTML>\n<HEAD>\n<META NAME="Generator" CONTENT="MS Exchange Server version 08.00.0681.000">\n<TITLE></TITLE>\n</HEAD>\n<BODY>\n<!-- Converted from text/rtf format -->\n\nSpectacol de teatru de umbre corporale și de păpuși, creat pe muzica lui Igor Stravinsky, o adaptare liberă a poveștii „Pasărea de foc și Kaschei, magicianul cel rău”. Un spectacol original în care lumina și întunericul se întâlnesc pe ecranul de pânză pentru a da naștere unei lumi fascinante și efemere. Întunericul și răul se cuibăresc uneori în sufletul omului. Binele are însă o armă imbatabilă, de aceea triumfă în toate poveștile: puterea de sacrificiu în numele iubirii față de oameni, față de viață. Regia este semnată Irina Niculescu, muzica: Igor Stravinsky, scenografia: John Lewandowski, voice-over: Sebastian Bălășoiu.<br /><br />În distribuție îi veți putea urmări pe: Ana Maria Cucuta | Cristina Dumitra | Teodora Antal | Mihai Balaceanu |  Cosmin Cosma<br /><br />Pe scurt: Pasărea de Foc este o Pasăre Phoenix, despre care se spune că trăiește mii de ani. Când își simte sfârșitul își face un cuib din plante aromatice și tămâie și îi dă foc, arzând odată cu el. Din cenușa rămasă se naște o altă pasăre de foc. Trilul ei are darul de a-i însănătoși pe cei bolnavi, de a le reda vederea celor orbi. În această poveste, trilul ei îl farmecă pe Ivan și un grăunte de lumină se naște în sufletul său spre a rămâne acolo pentru totdeauna.<br /><br />Ivan și Pasărea de Foc vor spulbera vraja lui Kaschei dictatorul și vor trezi lumea înghețată de Kaschei, iar Ivan își va regăsi părinții. Încă o dată, lumina va alunga întunericul, dragostea și încrederea în viață vor învinge.\n\n</BODY>\n</HTML>

LOCATION:Târgoviște, România
END:VEVENT

END:VCALENDAR
