BEGIN:VCALENDAR
VERSION:2.0
PRODID:-//hacksw/handcal//NONSGML v1.0//EN
BEGIN:VEVENT
UID:06c6211cb26a7fe87ff9b4fec812cf45
DTSTAMP:20260425T235942Z

DTSTART:20190603T193000
DTEND:20190603T203000
SUMMARY:Piatra din casa @Casa Sindicatelor
DESCRIPTION:Comedia Piatra din casa satirizeaza obiceiul micii boierimi din Moldova mijlocului de secol XIX de a transforma casatoria intr-un schimb, fiind privita ca o intelegere intre parinti cu privire la impartirea zestrei, fara a tine cont de parerea copiilor, desi in discutie este viitorul lor.\nIn jurul subiectului se contureaza momente in care, prin umor de situatie, de limbaj si de caracter, se dezvaluie personalitatea protagonistilor si mentalitatile acelei perioade. 

X-ALT-DESC;FMTTYPE=text/html:<!DOCTYPE HTML PUBLIC "-//W3C//DTD HTML 3.2//EN">\n<HTML>\n<HEAD>\n<META NAME="Generator" CONTENT="MS Exchange Server version 08.00.0681.000">\n<TITLE></TITLE>\n</HEAD>\n<BODY>\n<!-- Converted from text/rtf format -->\n\nComedia Piatra din casa satirizeaza obiceiul micii boierimi din Moldova mijlocului de secol XIX de a transforma casatoria intr-un schimb, fiind privita ca o intelegere intre parinti cu privire la impartirea zestrei, fara a tine cont de parerea copiilor, desi in discutie este viitorul lor.<br />In jurul subiectului se contureaza momente in care, prin umor de situatie, de limbaj si de caracter, se dezvaluie personalitatea protagonistilor si mentalitatile acelei perioade. \n\n</BODY>\n</HTML>

LOCATION:Bulevardul Regele Carol I nr. 43, Târgoviște, România
END:VEVENT

END:VCALENDAR
