BEGIN:VCALENDAR
VERSION:2.0
PRODID:-//hacksw/handcal//NONSGML v1.0//EN
BEGIN:VEVENT
UID:fa72466c96c940489fb4ab5ed30196ea
DTSTAMP:20260426T000454Z

DTSTART:20171114T120000
DTEND:20171114T124500
SUMMARY:Povestea Chitarei (II) - Sunete @Sibiu Guitar Meeting
DESCRIPTION:Povestea chitarei (II) – Sunete
Un spectacol produs de Asociația Play cu sprijinul BIS Teatru.
Un spectacol de muzică și teatru.
Un spectacol de bucurat oameni.


X-ALT-DESC;FMTTYPE=text/html:<!DOCTYPE HTML PUBLIC "-//W3C//DTD HTML 3.2//EN">\n<HTML>\n<HEAD>\n<META NAME="Generator" CONTENT="MS Exchange Server version 08.00.0681.000">\n<TITLE></TITLE>\n</HEAD>\n<BODY>\n<!-- Converted from text/rtf format -->\n\nPovestea chitarei (II) – Sunete
Un spectacol produs de Asociația Play cu sprijinul BIS Teatru.
Un spectacol de muzică și teatru.
Un spectacol de bucurat oameni.
\n\n</BODY>\n</HTML>

LOCATION:
END:VEVENT

END:VCALENDAR
