BEGIN:VCALENDAR
VERSION:2.0
PRODID:-//hacksw/handcal//NONSGML v1.0//EN
BEGIN:VEVENT
UID:cfaef7316d5fc62fb1b378b27ef0736b
DTSTAMP:20260426T000114Z

DTSTART:20171001T190000
DTEND:20171001T204500
SUMMARY:.Shakespeare. Furtuna. JocSecund
DESCRIPTION:Descoperiți un spectacolul în premieră: Shakespeare.Furtuna.Joc Secund. pe 1 octombrie, de la orele 19:00, la Sala Mare. O producție a Teatrului Tony Bulandra care s-a jucat în Festivalul Babel și acum vrea să facă cunoștință cu publicul târgoviștean.

X-ALT-DESC;FMTTYPE=text/html:<!DOCTYPE HTML PUBLIC "-//W3C//DTD HTML 3.2//EN">\n<HTML>\n<HEAD>\n<META NAME="Generator" CONTENT="MS Exchange Server version 08.00.0681.000">\n<TITLE></TITLE>\n</HEAD>\n<BODY>\n<!-- Converted from text/rtf format -->\n\nDescoperiți un spectacolul în premieră: Shakespeare.Furtuna.Joc Secund. pe 1 octombrie, de la orele 19:00, la Sala Mare. O producție a Teatrului Tony Bulandra care s-a jucat în Festivalul Babel și acum vrea să facă cunoștință cu publicul târgoviștean.\n\n</BODY>\n</HTML>

LOCATION:
END:VEVENT

END:VCALENDAR
