BEGIN:VCALENDAR
VERSION:2.0
PRODID:-//hacksw/handcal//NONSGML v1.0//EN
BEGIN:VEVENT
UID:762f52b09f45614d6a816bac158935b0
DTSTAMP:20260425T235812Z

DTSTART:20181008T190000
DTEND:20181008T213800
SUMMARY:Prenumele
DESCRIPTION:”Prenumele” este o comedie irezistibilă ce se va juca și la Târgoviște. Spectacolul va fi găzduit de Casa de Cultură a Sindicatelor, în data de 8 octombrie, de la ora 19.00.\n\nDin distribuție fac parte actori cunoscuți de pe scenă, dar mai ales de pe micul ecran: Claudiu Bleonț, Leonid Doni, Ecaterina Ladin, Alina Chivulescu și Mihai Călin.\n\n”Prenumele” este un spectacol după piesa de mare succes ”Le Prenom” de Alexandre de La Patellière și Matthieu Delaporte.\n\nPe scurt: Vincent (Mihai Călin), un agent imobiliar de succes şi în curând fericit tată, este invitat la cină de sora sa Babou (Alina Chivulescu) şi cumnatul său Pierre (Claudiu Bleonţ), profesor la universitate. Soţia sa Anna (Ecaterina Ladin), specialistă în modă, şi prietenul acestora din copilărie, Claude (Leonid Doni), trombonist la filarmonica radio, îl însoţesc. O glumă nevinovată despre numele viitorului copil declanşează o cascadă de situaţii comice neprevăzute şi dezvăluiri hilare care pun la grea încercare prietenia lor.\n\n“Le Prenom” este o comedie franceză, pusă pentru prima dată în scenă la Paris, în 2010, cu celebrul actor şi cântăreţ Patrick Bruel într-unul dintre rolurile principale. Piesa de teatru a fost nominalizată la mai multe Premii Molière, fiind ulterior adaptată şi pentru marile ecrane, primind 5 nominalizări la premiile César în 2013.

X-ALT-DESC;FMTTYPE=text/html:<!DOCTYPE HTML PUBLIC "-//W3C//DTD HTML 3.2//EN">\n<HTML>\n<HEAD>\n<META NAME="Generator" CONTENT="MS Exchange Server version 08.00.0681.000">\n<TITLE></TITLE>\n</HEAD>\n<BODY>\n<!-- Converted from text/rtf format -->\n\n”Prenumele” este o comedie irezistibilă ce se va juca și la Târgoviște. Spectacolul va fi găzduit de Casa de Cultură a Sindicatelor, în data de 8 octombrie, de la ora 19.00.<br /><br />Din distribuție fac parte actori cunoscuți de pe scenă, dar mai ales de pe micul ecran: Claudiu Bleonț, Leonid Doni, Ecaterina Ladin, Alina Chivulescu și Mihai Călin.<br /><br />”Prenumele” este un spectacol după piesa de mare succes ”Le Prenom” de Alexandre de La Patellière și Matthieu Delaporte.<br /><br />Pe scurt: Vincent (Mihai Călin), un agent imobiliar de succes şi în curând fericit tată, este invitat la cină de sora sa Babou (Alina Chivulescu) şi cumnatul său Pierre (Claudiu Bleonţ), profesor la universitate. Soţia sa Anna (Ecaterina Ladin), specialistă în modă, şi prietenul acestora din copilărie, Claude (Leonid Doni), trombonist la filarmonica radio, îl însoţesc. O glumă nevinovată despre numele viitorului copil declanşează o cascadă de situaţii comice neprevăzute şi dezvăluiri hilare care pun la grea încercare prietenia lor.<br /><br />“Le Prenom” este o comedie franceză, pusă pentru prima dată în scenă la Paris, în 2010, cu celebrul actor şi cântăreţ Patrick Bruel într-unul dintre rolurile principale. Piesa de teatru a fost nominalizată la mai multe Premii Molière, fiind ulterior adaptată şi pentru marile ecrane, primind 5 nominalizări la premiile César în 2013.\n\n</BODY>\n</HTML>

LOCATION:
END:VEVENT

END:VCALENDAR
